View In:
ArcGIS JavaScript
ArcGIS Online Map Viewer
ArcGIS Earth
ArcMap
View Footprint In:
ArcGIS Online Map Viewer
Service Description: Historical map showing streets, house lot numbers, railroads, line of the second Welland Canal and its lock, weirs and ponds. Relief shown by hachures. "Title changed from Welland City to Merritton Dec. 1868"--bottom left corner. Geographic coverage of Merritton. Photoreproduction.
Name: EarlyNiagara/Merritton1867
Description: Historical map showing streets, house lot numbers, railroads, line of the second Welland Canal and its lock, weirs and ponds. Relief shown by hachures. "Title changed from Welland City to Merritton Dec. 1868"--bottom left corner. Geographic coverage of Merritton. Photoreproduction.
Single Fused Map Cache: false
Extent:
XMin: 644623.4476886039
YMin: 4776975.983890162
XMax: 645937.2044333662
YMax: 4778841.245974479
Spatial Reference: 26917
(26917)
Initial Extent:
XMin: 644623.4476886039
YMin: 4776975.983890162
XMax: 645937.2044333662
YMax: 4778841.245974479
Spatial Reference: 26917
(26917)
Full Extent:
XMin: 644623.4476886039
YMin: 4776975.983890162
XMax: 645937.2044333662
YMax: 4778841.245974479
Spatial Reference: 26917
(26917)
Pixel Size X: 0.1002561618408349
Pixel Size Y: 0.19201792097152498
Band Count: 1
Pixel Type: U8
RasterFunction Infos: {"rasterFunctionInfos": [{
"name": "None",
"description": "",
"help": ""
}]}
Mensuration Capabilities: Basic
Has Histograms: true
Has Colormap: false
Has Multi Dimensions : false
Rendering Rule:
Min Scale: 0
Max Scale: 0
Copyright Text: Brock University Map, Data & GIS Library
Service Data Type: esriImageServiceDataTypeGeneric
Min Values: 0
Max Values: 255
Mean Values: 215.83839587222
Standard Deviation Values: 48.999704956554
Object ID Field:
Fields:
None
Default Mosaic Method: Center
Allowed Mosaic Methods:
SortField:
SortValue: null
Mosaic Operator: First
Default Compression Quality: 75
Default Resampling Method: Bilinear
Max Record Count: null
Max Image Height: 4100
Max Image Width: 15000
Max Download Image Count: null
Max Mosaic Image Count: null
Allow Raster Function: true
Allow Copy: true
Allow Analysis: true
Allow Compute TiePoints: false
Supports Statistics: false
Supports Advanced Queries: false
Use StandardizedQueries: true
Raster Type Infos:
Name: Raster Dataset
Description: Supports all ArcGIS Raster Datasets
Help:
Has Raster Attribute Table: false
Edit Fields Info: null
Ownership Based AccessControl For Rasters: null
Child Resources:
Info
Histograms
Statistics
Key Properties
Legend
Raster Function Infos
Supported Operations:
Export Image
Identify
Measure
Compute Histograms
Compute Statistics Histograms
Get Samples
Compute Class Statistics
Query Boundary
Compute Pixel Location
Compute Angles
Validate
Project