View In:
ArcGIS JavaScript
ArcGIS Online Map Viewer
ArcGIS Earth
ArcMap
View Footprint In:
ArcGIS Online Map Viewer
Service Description: Map date: 1958.
"Drawn by M. J. Servos, 18 Niagara St., St. Catharines Ont., July 7, 1958"-- bottom left corner.
Scale [ca. 1:4,800]
Digital reproduction of map (71 x 68 cm.).
Oriented with north to the top right.
Georeferenced and modified from map in Map, Data and GIS Library, Brock University, call number G 3464 M47 1958 S47.
Name: EarlyNiagara/Merritton1958
Description: Map date: 1958.
"Drawn by M. J. Servos, 18 Niagara St., St. Catharines Ont., July 7, 1958"-- bottom left corner.
Scale [ca. 1:4,800]
Digital reproduction of map (71 x 68 cm.).
Oriented with north to the top right.
Georeferenced and modified from map in Map, Data and GIS Library, Brock University, call number G 3464 M47 1958 S47.
Single Fused Map Cache: false
Extent:
XMin: 642278.5862935261
YMin: 4775068.165413004
XMax: 647167.1587895261
YMax: 4779955.0228210045
Spatial Reference: 26917
(26917)
Initial Extent:
XMin: 642278.5862935261
YMin: 4775068.165413004
XMax: 647167.1587895261
YMax: 4779955.0228210045
Spatial Reference: 26917
(26917)
Full Extent:
XMin: 642278.5862935261
YMin: 4775068.165413004
XMax: 647167.1587895261
YMax: 4779955.0228210045
Spatial Reference: 26917
(26917)
Pixel Size X: 0.5716959999999975
Pixel Size Y: 0.5716960000000183
Band Count: 3
Pixel Type: U16
RasterFunction Infos: {"rasterFunctionInfos": [{
"name": "None",
"description": "",
"help": ""
}]}
Mensuration Capabilities: Basic
Has Histograms: true
Has Colormap: false
Has Multi Dimensions : false
Rendering Rule:
Min Scale: 0
Max Scale: 0
Copyright Text: Drawn by M. J. Servos.
Map, Data & GIS Library, Brock University.
Service Data Type: esriImageServiceDataTypeGeneric
Min Values: 0, 0, 0
Max Values: 255, 255, 255
Mean Values: 227.60877150924, 203.15466320741, 175.21213874409
Standard Deviation Values: 27.698435710016, 26.406045286847, 25.959183602406
Object ID Field:
Fields:
None
Default Mosaic Method: Center
Allowed Mosaic Methods:
SortField:
SortValue: null
Mosaic Operator: First
Default Compression Quality: 75
Default Resampling Method: Bilinear
Max Record Count: null
Max Image Height: 4100
Max Image Width: 15000
Max Download Image Count: null
Max Mosaic Image Count: null
Allow Raster Function: true
Allow Copy: true
Allow Analysis: true
Allow Compute TiePoints: false
Supports Statistics: false
Supports Advanced Queries: false
Use StandardizedQueries: true
Raster Type Infos:
Name: Raster Dataset
Description: Supports all ArcGIS Raster Datasets
Help:
Has Raster Attribute Table: false
Edit Fields Info: null
Ownership Based AccessControl For Rasters: null
Child Resources:
Info
Histograms
Statistics
Key Properties
Legend
Raster Function Infos
Supported Operations:
Export Image
Identify
Measure
Compute Histograms
Compute Statistics Histograms
Get Samples
Compute Class Statistics
Query Boundary
Compute Pixel Location
Compute Angles
Validate
Project