View In:
ArcGIS JavaScript
ArcGIS Online Map Viewer
ArcGIS Earth
ArcMap
View Footprint In:
ArcGIS Online Map Viewer
Service Description: Map date: approximately 1900.
Oriented with north to the top right.
Digital reproduction of map ( 51 x 36 cm.) in the Map, Data and GIS Library, Brock University
Georeferenced and modified from Brock call # G 3464 M47 1900 M37, by Map, Data and GIS Library, Brock University.
Name: EarlyNiagara/Merritton_c1900
Description: Map date: approximately 1900.
Oriented with north to the top right.
Digital reproduction of map ( 51 x 36 cm.) in the Map, Data and GIS Library, Brock University
Georeferenced and modified from Brock call # G 3464 M47 1900 M37, by Map, Data and GIS Library, Brock University.
Single Fused Map Cache: false
Extent:
XMin: 643003.2369381771
YMin: 4775889.858445471
XMax: 646996.8843004423
YMax: 4779835.194451083
Spatial Reference: 26917
(26917)
Initial Extent:
XMin: 643003.2369381771
YMin: 4775889.858445471
XMax: 646996.8843004423
YMax: 4779835.194451083
Spatial Reference: 26917
(26917)
Full Extent:
XMin: 643003.2369381771
YMin: 4775889.858445471
XMax: 646996.8843004423
YMax: 4779835.194451083
Spatial Reference: 26917
(26917)
Pixel Size X: 0.45730532030976223
Pixel Size Y: 0.3135698621532568
Band Count: 3
Pixel Type: U8
RasterFunction Infos: {"rasterFunctionInfos": [{
"name": "None",
"description": "",
"help": ""
}]}
Mensuration Capabilities: Basic
Has Histograms: false
Has Colormap: false
Has Multi Dimensions : false
Rendering Rule:
Min Scale: 0
Max Scale: 0
Copyright Text: Map, Data & GIS Library, Brock University.
Service Data Type: esriImageServiceDataTypeRGB
Min Values: N/A
Max Values: N/A
Mean Values: N/A
Standard Deviation Values: N/A
Object ID Field:
Fields:
None
Default Mosaic Method: Center
Allowed Mosaic Methods:
SortField:
SortValue: null
Mosaic Operator: First
Default Compression Quality: 75
Default Resampling Method: Bilinear
Max Record Count: null
Max Image Height: 4100
Max Image Width: 15000
Max Download Image Count: null
Max Mosaic Image Count: null
Allow Raster Function: true
Allow Copy: true
Allow Analysis: true
Allow Compute TiePoints: false
Supports Statistics: false
Supports Advanced Queries: false
Use StandardizedQueries: true
Raster Type Infos:
Name: Raster Dataset
Description: Supports all ArcGIS Raster Datasets
Help:
Has Raster Attribute Table: false
Edit Fields Info: null
Ownership Based AccessControl For Rasters: null
Child Resources:
Info
Statistics
Key Properties
Legend
Raster Function Infos
Supported Operations:
Export Image
Identify
Measure
Compute Histograms
Compute Statistics Histograms
Get Samples
Compute Class Statistics
Query Boundary
Compute Pixel Location
Compute Angles
Validate
Project