View In:
ArcGIS JavaScript
ArcGIS Online Map Viewer
ArcGIS Earth
ArcMap
View Footprint In:
ArcGIS Online Map Viewer
Service Description: Historical map showing the 3 forts, streets (unnamed), buildings, treed areas, Indian Council House, Butlers Barracks, boundary of Military Reserve.
By H. H. Willson.
"(signed) Henry Vavasour, Capn Comg Royal Engr, Niagara Frontier. Royal Engineers Office Quebec Novr 19 - 1818."
Digital reproduction of map in the Public Archives of Canada. National Map Collection. Library and Archives Canada.
Relief shown by hachures
Georeferenced and modified from NMC Map number 16999 by Map, Data and GIS Library, Brock University.
Name: EarlyNiagara/NOTL1817NMC16999_geo
Description: Historical map showing the 3 forts, streets (unnamed), buildings, treed areas, Indian Council House, Butlers Barracks, boundary of Military Reserve.
By H. H. Willson.
"(signed) Henry Vavasour, Capn Comg Royal Engr, Niagara Frontier. Royal Engineers Office Quebec Novr 19 - 1818."
Digital reproduction of map in the Public Archives of Canada. National Map Collection. Library and Archives Canada.
Relief shown by hachures
Georeferenced and modified from NMC Map number 16999 by Map, Data and GIS Library, Brock University.
Single Fused Map Cache: false
Extent:
XMin: -8805624.25548499
YMin: 5347454.261419932
XMax: -8798777.429964991
YMax: 5354132.331691932
Spatial Reference: 102100
(3857)
Initial Extent:
XMin: -8805624.25548499
YMin: 5347454.261419932
XMax: -8798777.429964991
YMax: 5354132.331691932
Spatial Reference: 102100
(3857)
Full Extent:
XMin: -8805624.25548499
YMin: 5347454.261419932
XMax: -8798777.429964991
YMax: 5354132.331691932
Spatial Reference: 102100
(3857)
Pixel Size X: 1.2882079999999039
Pixel Size Y: 1.288207999999918
Band Count: 3
Pixel Type: U16
RasterFunction Infos: {"rasterFunctionInfos": [{
"name": "None",
"description": "",
"help": ""
}]}
Mensuration Capabilities: Basic
Has Histograms: true
Has Colormap: false
Has Multi Dimensions : false
Rendering Rule:
Min Scale: 0
Max Scale: 0
Copyright Text: Map, Data & GIS Library, Brock University.
Service Data Type: esriImageServiceDataTypeGeneric
Min Values: 3, 0, 0
Max Values: 255, 255, 243
Mean Values: 191.31590052297, 182.82029955919, 109.97767474351
Standard Deviation Values: 29.081030084736, 30.664122789348, 25.859695993562
Object ID Field:
Fields:
None
Default Mosaic Method: Center
Allowed Mosaic Methods:
SortField:
SortValue: null
Mosaic Operator: First
Default Compression Quality: 75
Default Resampling Method: Bilinear
Max Record Count: null
Max Image Height: 4100
Max Image Width: 15000
Max Download Image Count: null
Max Mosaic Image Count: null
Allow Raster Function: true
Allow Copy: true
Allow Analysis: true
Allow Compute TiePoints: false
Supports Statistics: false
Supports Advanced Queries: false
Use StandardizedQueries: true
Raster Type Infos:
Name: Raster Dataset
Description: Supports all ArcGIS Raster Datasets
Help:
Has Raster Attribute Table: false
Edit Fields Info: null
Ownership Based AccessControl For Rasters: null
Child Resources:
Info
Histograms
Statistics
Key Properties
Legend
Raster Function Infos
Supported Operations:
Export Image
Identify
Measure
Compute Histograms
Compute Statistics Histograms
Get Samples
Compute Class Statistics
Query Boundary
Compute Pixel Location
Compute Angles
Validate
Project