View In:
ArcGIS JavaScript
ArcGIS Online Map Viewer
ArcGIS Earth
ArcMap
View Footprint In:
ArcGIS Online Map Viewer
Service Description: Map date: May 28, 1815."Scale 8.8 in. = 1 mile, or 1 in. = 200 yds."Relief shown by contours."Lt. Col. F.C.McCordick, 35th Bn. C.E.F." - in top margin.Digital reproduction of map in Brock University Archives & Special Collections' Anne McPherson family fonds, 1852-2011, # RG 380. Georeferenced and modified by Map, Data & GIS Library, Brock University.
Name: EarlyNiagara/NOTLChautauquaManoeuvre
Description: Map date: May 28, 1815."Scale 8.8 in. = 1 mile, or 1 in. = 200 yds."Relief shown by contours."Lt. Col. F.C.McCordick, 35th Bn. C.E.F." - in top margin.Digital reproduction of map in Brock University Archives & Special Collections' Anne McPherson family fonds, 1852-2011, # RG 380. Georeferenced and modified by Map, Data & GIS Library, Brock University.
Single Fused Map Cache: false
Extent:
XMin: -8808285.960359192
YMin: 5349474.7925429335
XMax: -8803525.243282191
YMax: 5352260.639666934
Spatial Reference: 102100
(3857)
Initial Extent:
XMin: -8808285.960359192
YMin: 5349474.7925429335
XMax: -8803525.243282191
YMax: 5352260.639666934
Spatial Reference: 102100
(3857)
Full Extent:
XMin: -8808285.960359192
YMin: 5349474.7925429335
XMax: -8803525.243282191
YMax: 5352260.639666934
Spatial Reference: 102100
(3857)
Pixel Size X: 1.0410490000000145
Pixel Size Y: 1.0410490000000299
Band Count: 3
Pixel Type: U16
RasterFunction Infos: {"rasterFunctionInfos": [{
"name": "None",
"description": "",
"help": ""
}]}
Mensuration Capabilities: Basic
Has Histograms: true
Has Colormap: false
Has Multi Dimensions : false
Rendering Rule:
Min Scale: 0
Max Scale: 0
Copyright Text: Signed: W. F. Howland.
F.C. McCordick; Map, Data & GIS Library, Brock University.
Service Data Type: esriImageServiceDataTypeGeneric
Min Values: 0, 0, 0
Max Values: 227, 228, 198
Mean Values: 178.87815351508, 187.36194512197, 162.09105846486
Standard Deviation Values: 39.441056913564, 30.814954509611, 25.379407964204
Object ID Field:
Fields:
None
Default Mosaic Method: Center
Allowed Mosaic Methods:
SortField:
SortValue: null
Mosaic Operator: First
Default Compression Quality: 75
Default Resampling Method: Bilinear
Max Record Count: null
Max Image Height: 4100
Max Image Width: 15000
Max Download Image Count: null
Max Mosaic Image Count: null
Allow Raster Function: true
Allow Copy: true
Allow Analysis: true
Allow Compute TiePoints: false
Supports Statistics: false
Supports Advanced Queries: false
Use StandardizedQueries: true
Raster Type Infos:
Name: Raster Dataset
Description: Supports all ArcGIS Raster Datasets
Help:
Has Raster Attribute Table: false
Edit Fields Info: null
Ownership Based AccessControl For Rasters: null
Child Resources:
Info
Histograms
Statistics
Key Properties
Legend
Raster Function Infos
Supported Operations:
Export Image
Identify
Measure
Compute Histograms
Compute Statistics Histograms
Get Samples
Compute Class Statistics
Query Boundary
Compute Pixel Location
Compute Angles
Validate
Project