View In:
ArcGIS JavaScript
ArcGIS Online Map Viewer
ArcGIS Earth
ArcMap
View Footprint In:
ArcGIS Online Map Viewer
Service Description: Historical map showing road and buildings on Navy Island, Grand Island and Bulkhorn Island.
This manuscript map shows Navy Island in relative position to the main land, Grand Island and Buckhorn Island. Details concerning batteries, strength of current and distances from shore to island are given. The map is similar to a signed (H.O. Dewley) and dated plan (Jan.19, 1838). As this is a mere four days after Mackenzie and his forces vacated the island, this map, as well as the other, reflects the military interest and activity in the area. The map bears the stamp of the "Royl. Engr. Office" and "No. 116".
Scale 1:14,400
Map date: [1838]
Digital reproduction of map (24.1 x 38.2 cm.) in the Public Archives of Canada. National Map Collection. Library and Archives Canada.
Georeferenced and modified from NMC Map number 4203 by Map, Data and GIS Library, Brock University.
Name: EarlyNiagara/NavyIslandNiagaraFalls1838NMC4203
Description: Historical map showing road and buildings on Navy Island, Grand Island and Bulkhorn Island.
This manuscript map shows Navy Island in relative position to the main land, Grand Island and Buckhorn Island. Details concerning batteries, strength of current and distances from shore to island are given. The map is similar to a signed (H.O. Dewley) and dated plan (Jan.19, 1838). As this is a mere four days after Mackenzie and his forces vacated the island, this map, as well as the other, reflects the military interest and activity in the area. The map bears the stamp of the "Royl. Engr. Office" and "No. 116".
Scale 1:14,400
Map date: [1838]
Digital reproduction of map (24.1 x 38.2 cm.) in the Public Archives of Canada. National Map Collection. Library and Archives Canada.
Georeferenced and modified from NMC Map number 4203 by Map, Data and GIS Library, Brock University.
Single Fused Map Cache: false
Extent:
XMin: 658963.6180622417
YMin: 4766179.591015305
XMax: 664772.9907472417
YMax: 4771955.300961305
Spatial Reference: 26917
(26917)
Initial Extent:
XMin: 658963.6180622417
YMin: 4766179.591015305
XMax: 664772.9907472417
YMax: 4771955.300961305
Spatial Reference: 26917
(26917)
Full Extent:
XMin: 658963.6180622417
YMin: 4766179.591015305
XMax: 664772.9907472417
YMax: 4771955.300961305
Spatial Reference: 26917
(26917)
Pixel Size X: 1.0200829999999914
Pixel Size Y: 1.020083000000003
Band Count: 1
Pixel Type: U16
RasterFunction Infos: {"rasterFunctionInfos": [{
"name": "None",
"description": "",
"help": ""
}]}
Mensuration Capabilities: Basic
Has Histograms: false
Has Colormap: false
Has Multi Dimensions : false
Rendering Rule:
Min Scale: 0
Max Scale: 0
Copyright Text: Map, Data & GIS Library, Brock University.
Service Data Type: esriImageServiceDataTypeGeneric
Min Values: N/A
Max Values: N/A
Mean Values: N/A
Standard Deviation Values: N/A
Object ID Field:
Fields:
None
Default Mosaic Method: Center
Allowed Mosaic Methods:
SortField:
SortValue: null
Mosaic Operator: First
Default Compression Quality: 75
Default Resampling Method: Bilinear
Max Record Count: null
Max Image Height: 4100
Max Image Width: 15000
Max Download Image Count: null
Max Mosaic Image Count: null
Allow Raster Function: true
Allow Copy: true
Allow Analysis: true
Allow Compute TiePoints: false
Supports Statistics: false
Supports Advanced Queries: false
Use StandardizedQueries: true
Raster Type Infos:
Name: Raster Dataset
Description: Supports all ArcGIS Raster Datasets
Help:
Has Raster Attribute Table: false
Edit Fields Info: null
Ownership Based AccessControl For Rasters: null
Child Resources:
Info
Statistics
Key Properties
Legend
Raster Function Infos
Supported Operations:
Export Image
Identify
Measure
Compute Histograms
Compute Statistics Histograms
Get Samples
Compute Class Statistics
Query Boundary
Compute Pixel Location
Compute Angles
Validate
Project