View In:
ArcGIS JavaScript
ArcGIS Online Map Viewer
ArcGIS Earth
ArcMap
View Footprint In:
ArcGIS Online Map Viewer
Service Description: Map showing geological features, contours, boundary, legend. 1 inset: Index map. At head of map: Canada. Department of Mines and Technical Surveys. Geological Survey of Canada.
Name: EarlyNiagara/NiagaraBedrockContours1956
Description: Map showing geological features, contours, boundary, legend. 1 inset: Index map. At head of map: Canada. Department of Mines and Technical Surveys. Geological Survey of Canada.
Single Fused Map Cache: false
Extent:
XMin: 603497.0129389928
YMin: 4731449.587630632
XMax: 683120.7892457306
YMax: 4788583.114277674
Spatial Reference: 26917
(26917)
Initial Extent:
XMin: 603497.0129389928
YMin: 4731449.587630632
XMax: 683120.7892457306
YMax: 4788583.114277674
Spatial Reference: 26917
(26917)
Full Extent:
XMin: 603497.0129389928
YMin: 4731449.587630632
XMax: 683120.7892457306
YMax: 4788583.114277674
Spatial Reference: 26917
(26917)
Pixel Size X: 10.871624290925423
Pixel Size Y: 11.025381444816972
Band Count: 3
Pixel Type: U8
RasterFunction Infos: {"rasterFunctionInfos": [{
"name": "None",
"description": "",
"help": ""
}]}
Mensuration Capabilities: Basic
Has Histograms: true
Has Colormap: false
Has Multi Dimensions : false
Rendering Rule:
Min Scale: 0
Max Scale: 0
Copyright Text: Brock University Map, Data & GIS Library
Service Data Type: esriImageServiceDataTypeRGB
Min Values: 0, 0, 0
Max Values: 255, 255, 255
Mean Values: 232.34143305999, 226.14354342459, 203.02313207752
Standard Deviation Values: 36.889630821271, 36.304167080816, 35.079672230311
Object ID Field:
Fields:
None
Default Mosaic Method: Center
Allowed Mosaic Methods:
SortField:
SortValue: null
Mosaic Operator: First
Default Compression Quality: 75
Default Resampling Method: Bilinear
Max Record Count: null
Max Image Height: 4100
Max Image Width: 15000
Max Download Image Count: null
Max Mosaic Image Count: null
Allow Raster Function: true
Allow Copy: true
Allow Analysis: true
Allow Compute TiePoints: false
Supports Statistics: false
Supports Advanced Queries: false
Use StandardizedQueries: true
Raster Type Infos:
Name: Raster Dataset
Description: Supports all ArcGIS Raster Datasets
Help:
Has Raster Attribute Table: false
Edit Fields Info: null
Ownership Based AccessControl For Rasters: null
Child Resources:
Info
Histograms
Statistics
Key Properties
Legend
Raster Function Infos
Supported Operations:
Export Image
Identify
Measure
Compute Histograms
Compute Statistics Histograms
Get Samples
Compute Class Statistics
Query Boundary
Compute Pixel Location
Compute Angles
Validate
Project