View In:
ArcGIS JavaScript
ArcGIS Online Map Viewer
ArcGIS Earth
ArcMap
View Footprint In:
ArcGIS Online Map Viewer
Service Description: Map date: Published March 1978, based on 1876 boundaries.
Source of place names and boundaries from "Illustrated Historical Atlas of the Counties of Lincoln and Welland, Ontario. H.R. Page : Toronto, 1876.
Title on map: Figure 15 Historical Niagara - Communities (1876)
Digital reproduction of map (28 x 43 cm.) in the Map, Data and GIS Library, Brock University.
Georeferenced and modified from Brock call # G 3463 N54 S1 1876 R45 1978 by Map, Data and GIS Library, Brock University.
Name: EarlyNiagara/NiagaraCommunities1876
Description: Map date: Published March 1978, based on 1876 boundaries.
Source of place names and boundaries from "Illustrated Historical Atlas of the Counties of Lincoln and Welland, Ontario. H.R. Page : Toronto, 1876.
Title on map: Figure 15 Historical Niagara - Communities (1876)
Digital reproduction of map (28 x 43 cm.) in the Map, Data and GIS Library, Brock University.
Georeferenced and modified from Brock call # G 3463 N54 S1 1876 R45 1978 by Map, Data and GIS Library, Brock University.
Single Fused Map Cache: false
Extent:
XMin: 597554.5654509243
YMin: 4740289.448859882
XMax: 679616.1732609243
YMax: 4800849.844419882
Spatial Reference: 26917
(26917)
Initial Extent:
XMin: 597554.5654509243
YMin: 4740289.448859882
XMax: 679616.1732609243
YMax: 4800849.844419882
Spatial Reference: 26917
(26917)
Full Extent:
XMin: 597554.5654509243
YMin: 4740289.448859882
XMax: 679616.1732609243
YMax: 4800849.844419882
Spatial Reference: 26917
(26917)
Pixel Size X: 8.113664999999996
Pixel Size Y: 8.113665000000012
Band Count: 1
Pixel Type: U16
RasterFunction Infos: {"rasterFunctionInfos": [{
"name": "None",
"description": "",
"help": ""
}]}
Mensuration Capabilities: Basic
Has Histograms: false
Has Colormap: false
Has Multi Dimensions : false
Rendering Rule:
Min Scale: 0
Max Scale: 0
Copyright Text: Map, Data & GIS Library, Brock University.
Service Data Type: esriImageServiceDataTypeGeneric
Min Values: N/A
Max Values: N/A
Mean Values: N/A
Standard Deviation Values: N/A
Object ID Field:
Fields:
None
Default Mosaic Method: Center
Allowed Mosaic Methods:
SortField:
SortValue: null
Mosaic Operator: First
Default Compression Quality: 75
Default Resampling Method: Bilinear
Max Record Count: null
Max Image Height: 4100
Max Image Width: 15000
Max Download Image Count: null
Max Mosaic Image Count: null
Allow Raster Function: true
Allow Copy: true
Allow Analysis: true
Allow Compute TiePoints: false
Supports Statistics: false
Supports Advanced Queries: false
Use StandardizedQueries: true
Raster Type Infos:
Name: Raster Dataset
Description: Supports all ArcGIS Raster Datasets
Help:
Has Raster Attribute Table: false
Edit Fields Info: null
Ownership Based AccessControl For Rasters: null
Child Resources:
Info
Statistics
Key Properties
Legend
Raster Function Infos
Supported Operations:
Export Image
Identify
Measure
Compute Histograms
Compute Statistics Histograms
Get Samples
Compute Class Statistics
Query Boundary
Compute Pixel Location
Compute Angles
Validate
Project