View In:
ArcGIS JavaScript
ArcGIS Online Map Viewer
ArcGIS Earth
ArcMap
View Footprint In:
ArcGIS Online Map Viewer
Service Description: Historical map showing boundaries, proposed military road from Hamilton to Fort Erie, Niagara District, Lincoln and Welland Counties identified, place names, the Second Welland Canal.
Includes 'Explanations' key with a long list of road and water routes, and has a circle shown around [Welland].
Digital reproduction of map in the Public Archives of Canada. National Map Collection. Library and Archives Canada.
Georeferenced and modified from NMC Map number 3008 by Map, Data and GIS Library, Brock University.
Supplied title from 'Mapping Upper Canada, 1780-1867' / Joan Winearls. 1991.
Name: EarlyNiagara/NiagaraDistrict1849NMC3008
Description: Historical map showing boundaries, proposed military road from Hamilton to Fort Erie, Niagara District, Lincoln and Welland Counties identified, place names, the Second Welland Canal.
Includes 'Explanations' key with a long list of road and water routes, and has a circle shown around [Welland].
Digital reproduction of map in the Public Archives of Canada. National Map Collection. Library and Archives Canada.
Georeferenced and modified from NMC Map number 3008 by Map, Data and GIS Library, Brock University.
Supplied title from 'Mapping Upper Canada, 1780-1867' / Joan Winearls. 1991.
Single Fused Map Cache: false
Extent:
XMin: 585336.0830028316
YMin: 4738965.526985668
XMax: 677799.6742038316
YMax: 4810811.982158667
Spatial Reference: 26917
(26917)
Initial Extent:
XMin: 585336.0830028316
YMin: 4738965.526985668
XMax: 677799.6742038316
YMax: 4810811.982158667
Spatial Reference: 26917
(26917)
Full Extent:
XMin: 585336.0830028316
YMin: 4738965.526985668
XMax: 677799.6742038316
YMax: 4810811.982158667
Spatial Reference: 26917
(26917)
Pixel Size X: 12.540837000000005
Pixel Size Y: 12.540836999999959
Band Count: 1
Pixel Type: U16
RasterFunction Infos: {"rasterFunctionInfos": [{
"name": "None",
"description": "",
"help": ""
}]}
Mensuration Capabilities: Basic
Has Histograms: true
Has Colormap: false
Has Multi Dimensions : false
Rendering Rule:
Min Scale: 0
Max Scale: 0
Copyright Text: Map, Data & GIS Library, Brock University.
Service Data Type: esriImageServiceDataTypeGeneric
Min Values: 29
Max Values: 247
Mean Values: 205.13637193502
Standard Deviation Values: 29.842622586693
Object ID Field:
Fields:
None
Default Mosaic Method: Center
Allowed Mosaic Methods:
SortField:
SortValue: null
Mosaic Operator: First
Default Compression Quality: 75
Default Resampling Method: Bilinear
Max Record Count: null
Max Image Height: 4100
Max Image Width: 15000
Max Download Image Count: null
Max Mosaic Image Count: null
Allow Raster Function: true
Allow Copy: true
Allow Analysis: true
Allow Compute TiePoints: false
Supports Statistics: false
Supports Advanced Queries: false
Use StandardizedQueries: true
Raster Type Infos:
Name: Raster Dataset
Description: Supports all ArcGIS Raster Datasets
Help:
Has Raster Attribute Table: false
Edit Fields Info: null
Ownership Based AccessControl For Rasters: null
Child Resources:
Info
Histograms
Statistics
Key Properties
Legend
Raster Function Infos
Supported Operations:
Export Image
Identify
Measure
Compute Histograms
Compute Statistics Histograms
Get Samples
Compute Class Statistics
Query Boundary
Compute Pixel Location
Compute Angles
Validate
Project