View In:
ArcGIS JavaScript
ArcGIS Online Map Viewer
ArcGIS Earth
ArcMap
View Footprint In:
ArcGIS Online Map Viewer
Service Description: Historical map showing transportation and hydrological features, roads on either side of the river, place names, forts, "Battle of Bridgewater July 20th 1814". Includes distances across river and notes on the heights and depths of the two falls.
Includes inset: "Horizontal section and elevation of the model, with geological features."
Relief shown by shading.
Map date: 1827
Map published: G. J. Poore & Co lighogr L'pool.
Digital reproduction of map in the Public Archives of Canada. National Map Collection. Library and Archives Canada.
Georeferenced and modified from NMC Map number 120090 by Map, Data and GIS Library, Brock University.
Name: EarlyNiagara/NiagaraFalls1827NMC120090
Description: Historical map showing transportation and hydrological features, roads on either side of the river, place names, forts, "Battle of Bridgewater July 20th 1814". Includes distances across river and notes on the heights and depths of the two falls.
Includes inset: "Horizontal section and elevation of the model, with geological features."
Relief shown by shading.
Map date: 1827
Map published: G. J. Poore & Co lighogr L'pool.
Digital reproduction of map in the Public Archives of Canada. National Map Collection. Library and Archives Canada.
Georeferenced and modified from NMC Map number 120090 by Map, Data and GIS Library, Brock University.
Single Fused Map Cache: false
Extent:
XMin: 655499.4572160384
YMin: 4769784.934941235
XMax: 658244.4717960383
YMax: 4773022.507332235
Spatial Reference: 26917
(26917)
Initial Extent:
XMin: 655499.4572160384
YMin: 4769784.934941235
XMax: 658244.4717960383
YMax: 4773022.507332235
Spatial Reference: 26917
(26917)
Full Extent:
XMin: 655499.4572160384
YMin: 4769784.934941235
XMax: 658244.4717960383
YMax: 4773022.507332235
Spatial Reference: 26917
(26917)
Pixel Size X: 0.5941589999999911
Pixel Size Y: 0.5941589999999348
Band Count: 1
Pixel Type: U16
RasterFunction Infos: {"rasterFunctionInfos": [{
"name": "None",
"description": "",
"help": ""
}]}
Mensuration Capabilities: Basic
Has Histograms: true
Has Colormap: false
Has Multi Dimensions : false
Rendering Rule:
Min Scale: 0
Max Scale: 0
Copyright Text: ["by George Catlin","1796-1872"]
Service Data Type: esriImageServiceDataTypeGeneric
Min Values: 22
Max Values: 228
Mean Values: 167.6644009141
Standard Deviation Values: 34.306326440953
Object ID Field:
Fields:
None
Default Mosaic Method: Center
Allowed Mosaic Methods:
SortField:
SortValue: null
Mosaic Operator: First
Default Compression Quality: 75
Default Resampling Method: Bilinear
Max Record Count: null
Max Image Height: 4100
Max Image Width: 15000
Max Download Image Count: null
Max Mosaic Image Count: null
Allow Raster Function: true
Allow Copy: true
Allow Analysis: true
Allow Compute TiePoints: false
Supports Statistics: false
Supports Advanced Queries: false
Use StandardizedQueries: true
Raster Type Infos:
Name: Raster Dataset
Description: Supports all ArcGIS Raster Datasets
Help:
Has Raster Attribute Table: false
Edit Fields Info: null
Ownership Based AccessControl For Rasters: null
Child Resources:
Info
Histograms
Statistics
Key Properties
Legend
Raster Function Infos
Supported Operations:
Export Image
Identify
Measure
Compute Histograms
Compute Statistics Histograms
Get Samples
Compute Class Statistics
Query Boundary
Compute Pixel Location
Compute Angles
Validate
Project