View In:
ArcGIS JavaScript
ArcGIS Online Map Viewer
ArcGIS Earth
ArcMap
View Footprint In:
ArcGIS Online Map Viewer
Service Description: Historical map showing roads, lot numbers, buildings, hydrological features.
Relief shown by hachures and shading.
Scale [ca. 1:3,960 or 1 in to 5 chains]
Map date: 1831
Shows the military reserve along the bank and lots granted to Philip Bender, James Forsyth, and Francis Ellisworth; shows roads and proposed road for visiting the falls, museum, Forsyth's Inn, Ontario House, Wright's stairs at Table Rock, and ferry
Digital reproduction of map (71 x 125 cm.) in the Public Archives of Canada. National Map Collection. Library and Archives Canada.
Georeferenced and modified from NMC Map number by Map, Data and GIS Library, Brock University.
Name: EarlyNiagara/NiagaraFalls1831NMC11404
Description: Historical map showing roads, lot numbers, buildings, hydrological features.
Relief shown by hachures and shading.
Scale [ca. 1:3,960 or 1 in to 5 chains]
Map date: 1831
Shows the military reserve along the bank and lots granted to Philip Bender, James Forsyth, and Francis Ellisworth; shows roads and proposed road for visiting the falls, museum, Forsyth's Inn, Ontario House, Wright's stairs at Table Rock, and ferry
Digital reproduction of map (71 x 125 cm.) in the Public Archives of Canada. National Map Collection. Library and Archives Canada.
Georeferenced and modified from NMC Map number by Map, Data and GIS Library, Brock University.
Single Fused Map Cache: false
Extent:
XMin: 653903.8384664354
YMin: 4768388.702292877
XMax: 658417.2231464355
YMax: 4775202.1455728775
Spatial Reference: 26917
(26917)
Initial Extent:
XMin: 653903.8384664354
YMin: 4768388.702292877
XMax: 658417.2231464355
YMax: 4775202.1455728775
Spatial Reference: 26917
(26917)
Full Extent:
XMin: 653903.8384664354
YMin: 4768388.702292877
XMax: 658417.2231464355
YMax: 4775202.1455728775
Spatial Reference: 26917
(26917)
Pixel Size X: 1.0978800000000042
Pixel Size Y: 1.0978800000000386
Band Count: 1
Pixel Type: U16
RasterFunction Infos: {"rasterFunctionInfos": [{
"name": "None",
"description": "",
"help": ""
}]}
Mensuration Capabilities: Basic
Has Histograms: true
Has Colormap: false
Has Multi Dimensions : false
Rendering Rule:
Min Scale: 0
Max Scale: 0
Copyright Text: Surveyed by Sir John Colborne Signed: James G. Chewett
Map, Data & GIS Library, Brock University.
Service Data Type: esriImageServiceDataTypeGeneric
Min Values: 22
Max Values: 255
Mean Values: 191.56224723486
Standard Deviation Values: 36.028559475989
Object ID Field:
Fields:
None
Default Mosaic Method: Center
Allowed Mosaic Methods:
SortField:
SortValue: null
Mosaic Operator: First
Default Compression Quality: 75
Default Resampling Method: Bilinear
Max Record Count: null
Max Image Height: 4100
Max Image Width: 15000
Max Download Image Count: null
Max Mosaic Image Count: null
Allow Raster Function: true
Allow Copy: true
Allow Analysis: true
Allow Compute TiePoints: false
Supports Statistics: false
Supports Advanced Queries: false
Use StandardizedQueries: true
Raster Type Infos:
Name: Raster Dataset
Description: Supports all ArcGIS Raster Datasets
Help:
Has Raster Attribute Table: false
Edit Fields Info: null
Ownership Based AccessControl For Rasters: null
Child Resources:
Info
Histograms
Statistics
Key Properties
Legend
Raster Function Infos
Supported Operations:
Export Image
Identify
Measure
Compute Histograms
Compute Statistics Histograms
Get Samples
Compute Class Statistics
Query Boundary
Compute Pixel Location
Compute Angles
Validate
Project