View In:
ArcGIS JavaScript
ArcGIS Online Map Viewer
ArcGIS Earth
ArcMap
View Footprint In:
ArcGIS Online Map Viewer
Service Description: Historical map showing the falls, the military reserve, roads, lot numbers, "Ontario House", "Pavillion Hotel".
Includes 4 vertical cross sections; 2 at the top, 2 to the left.
"Copy of a copy of a plan obtained from the Crown Land Office by Rt Pilkington draftsman"--bottom margin
Relief shown by hachures and shading.
Scale [ca. 1:7,351]
Map date: 1834
Digital reproduction of map (61 x 92 cm.) in the Public Archives of Canada. National Map Collection. Library and Archives Canada.
Georeferenced and modified from NMC Map number 4217 by Map, Data and GIS Library, Brock University.
Name: EarlyNiagara/NiagaraFalls1834NMC4217
Description: Historical map showing the falls, the military reserve, roads, lot numbers, "Ontario House", "Pavillion Hotel".
Includes 4 vertical cross sections; 2 at the top, 2 to the left.
"Copy of a copy of a plan obtained from the Crown Land Office by Rt Pilkington draftsman"--bottom margin
Relief shown by hachures and shading.
Scale [ca. 1:7,351]
Map date: 1834
Digital reproduction of map (61 x 92 cm.) in the Public Archives of Canada. National Map Collection. Library and Archives Canada.
Georeferenced and modified from NMC Map number 4217 by Map, Data and GIS Library, Brock University.
Single Fused Map Cache: false
Extent:
XMin: 653175.276946484
YMin: 4767069.817474717
XMax: 658735.758702484
YMax: 4775593.839698717
Spatial Reference: 26917
(26917)
Initial Extent:
XMin: 653175.276946484
YMin: 4767069.817474717
XMax: 658735.758702484
YMax: 4775593.839698717
Spatial Reference: 26917
(26917)
Full Extent:
XMin: 653175.276946484
YMin: 4767069.817474717
XMax: 658735.758702484
YMax: 4775593.839698717
Spatial Reference: 26917
(26917)
Pixel Size X: 1.1825779999999926
Pixel Size Y: 1.1825779999999617
Band Count: 1
Pixel Type: U16
RasterFunction Infos: {"rasterFunctionInfos": [{
"name": "None",
"description": "",
"help": ""
}]}
Mensuration Capabilities: Basic
Has Histograms: true
Has Colormap: false
Has Multi Dimensions : false
Rendering Rule:
Min Scale: 0
Max Scale: 0
Copyright Text: Surveyed by Lewis Burwell, John William Keating & William Hawkins
Map, Data & GIS Library, Brock University.
Service Data Type: esriImageServiceDataTypeGeneric
Min Values: 3
Max Values: 244
Mean Values: 162.6225827018
Standard Deviation Values: 26.560850653784
Object ID Field:
Fields:
None
Default Mosaic Method: Center
Allowed Mosaic Methods:
SortField:
SortValue: null
Mosaic Operator: First
Default Compression Quality: 75
Default Resampling Method: Bilinear
Max Record Count: null
Max Image Height: 4100
Max Image Width: 15000
Max Download Image Count: null
Max Mosaic Image Count: null
Allow Raster Function: true
Allow Copy: true
Allow Analysis: true
Allow Compute TiePoints: false
Supports Statistics: false
Supports Advanced Queries: false
Use StandardizedQueries: true
Raster Type Infos:
Name: Raster Dataset
Description: Supports all ArcGIS Raster Datasets
Help:
Has Raster Attribute Table: false
Edit Fields Info: null
Ownership Based AccessControl For Rasters: null
Child Resources:
Info
Histograms
Statistics
Key Properties
Legend
Raster Function Infos
Supported Operations:
Export Image
Identify
Measure
Compute Histograms
Compute Statistics Histograms
Get Samples
Compute Class Statistics
Query Boundary
Compute Pixel Location
Compute Angles
Validate
Project