View In:
ArcGIS JavaScript
ArcGIS Online Map Viewer
ArcGIS Earth
ArcMap
View Footprint In:
ArcGIS Online Map Viewer
Service Description: Historical map showing roads, buildings, hydrological features.
Originally with a petition for a licence of occupation; shows the falls and the bldgs on top of the bluff including that of James Windeat.
Relief shown by landform drawings.
Map date: 1841.
Digital reproduction of map (53 x 43 cm.) in the Public Archives of Canada. National Map Collection. Library and Archives Canada.
Georeferenced and modified from NMC Map number 4218 by Map, Data and GIS Library, Brock University.
Name: EarlyNiagara/NiagaraFalls1841NMC4218
Description: Historical map showing roads, buildings, hydrological features.
Originally with a petition for a licence of occupation; shows the falls and the bldgs on top of the bluff including that of James Windeat.
Relief shown by landform drawings.
Map date: 1841.
Digital reproduction of map (53 x 43 cm.) in the Public Archives of Canada. National Map Collection. Library and Archives Canada.
Georeferenced and modified from NMC Map number 4218 by Map, Data and GIS Library, Brock University.
Single Fused Map Cache: false
Extent:
XMin: 653848.0695223376
YMin: 4770082.4589144075
XMax: 658253.9303863377
YMax: 4773677.0056344075
Spatial Reference: 26917
(26917)
Initial Extent:
XMin: 653848.0695223376
YMin: 4770082.4589144075
XMax: 658253.9303863377
YMax: 4773677.0056344075
Spatial Reference: 26917
(26917)
Full Extent:
XMin: 653848.0695223376
YMin: 4770082.4589144075
XMax: 658253.9303863377
YMax: 4773677.0056344075
Spatial Reference: 26917
(26917)
Pixel Size X: 0.6160320000000064
Pixel Size Y: 0.6160319999999972
Band Count: 1
Pixel Type: U16
RasterFunction Infos: {"rasterFunctionInfos": [{
"name": "None",
"description": "",
"help": ""
}]}
Mensuration Capabilities: Basic
Has Histograms: true
Has Colormap: false
Has Multi Dimensions : false
Rendering Rule:
Min Scale: 0
Max Scale: 0
Copyright Text: Map, Data & GIS Library, Brock University.
Service Data Type: esriImageServiceDataTypeGeneric
Min Values: 16
Max Values: 242
Mean Values: 180.4975908607
Standard Deviation Values: 20.506559738754
Object ID Field:
Fields:
None
Default Mosaic Method: Center
Allowed Mosaic Methods:
SortField:
SortValue: null
Mosaic Operator: First
Default Compression Quality: 75
Default Resampling Method: Bilinear
Max Record Count: null
Max Image Height: 4100
Max Image Width: 15000
Max Download Image Count: null
Max Mosaic Image Count: null
Allow Raster Function: true
Allow Copy: true
Allow Analysis: true
Allow Compute TiePoints: false
Supports Statistics: false
Supports Advanced Queries: false
Use StandardizedQueries: true
Raster Type Infos:
Name: Raster Dataset
Description: Supports all ArcGIS Raster Datasets
Help:
Has Raster Attribute Table: false
Edit Fields Info: null
Ownership Based AccessControl For Rasters: null
Child Resources:
Info
Histograms
Statistics
Key Properties
Legend
Raster Function Infos
Supported Operations:
Export Image
Identify
Measure
Compute Histograms
Compute Statistics Histograms
Get Samples
Compute Class Statistics
Query Boundary
Compute Pixel Location
Compute Angles
Validate
Project