View In:
ArcGIS JavaScript
ArcGIS Online Map Viewer
ArcGIS Earth
ArcMap
View Footprint In:
ArcGIS Online Map Viewer
Service Description: Historical map showing streets, lot numbers and owners, railroads.
Relief shown by hachures and shading.
Digital reproduction of map (14 x 20 1/2 in.) from National Map Collection. Library and Archives Canada.
Georeferenced and modified from NMC Map number 4219 by Map, Data & GIS Library, Brock University.
Name: EarlyNiagara/NiagaraFalls1854NMC4219
Description: Historical map showing streets, lot numbers and owners, railroads.
Relief shown by hachures and shading.
Digital reproduction of map (14 x 20 1/2 in.) from National Map Collection. Library and Archives Canada.
Georeferenced and modified from NMC Map number 4219 by Map, Data & GIS Library, Brock University.
Single Fused Map Cache: false
Extent:
XMin: -8804202.63989302
YMin: 5322157.590492834
XMax: -8797448.508949019
YMax: 5330562.640860834
Spatial Reference: 102100
(3857)
Initial Extent:
XMin: -8804202.63989302
YMin: 5322157.590492834
XMax: -8797448.508949019
YMax: 5330562.640860834
Spatial Reference: 102100
(3857)
Full Extent:
XMin: -8804202.63989302
YMin: 5322157.590492834
XMax: -8797448.508949019
YMax: 5330562.640860834
Spatial Reference: 102100
(3857)
Pixel Size X: 2.0331520000001677
Pixel Size Y: 2.0331519999999568
Band Count: 1
Pixel Type: U16
RasterFunction Infos: {"rasterFunctionInfos": [{
"name": "None",
"description": "",
"help": ""
}]}
Mensuration Capabilities: Basic
Has Histograms: true
Has Colormap: false
Has Multi Dimensions : false
Rendering Rule:
Min Scale: 0
Max Scale: 0
Copyright Text: Map, Data & GIS Library, Brock University.
Service Data Type: esriImageServiceDataTypeGeneric
Min Values: 0
Max Values: 254
Mean Values: 174.84456598554
Standard Deviation Values: 52.094879151055
Object ID Field:
Fields:
None
Default Mosaic Method: Center
Allowed Mosaic Methods:
SortField:
SortValue: null
Mosaic Operator: First
Default Compression Quality: 75
Default Resampling Method: Bilinear
Max Record Count: null
Max Image Height: 4100
Max Image Width: 15000
Max Download Image Count: null
Max Mosaic Image Count: null
Allow Raster Function: true
Allow Copy: true
Allow Analysis: true
Allow Compute TiePoints: false
Supports Statistics: false
Supports Advanced Queries: false
Use StandardizedQueries: true
Raster Type Infos:
Name: Raster Dataset
Description: Supports all ArcGIS Raster Datasets
Help:
Has Raster Attribute Table: false
Edit Fields Info: null
Ownership Based AccessControl For Rasters: null
Child Resources:
Info
Histograms
Statistics
Key Properties
Legend
Raster Function Infos
Supported Operations:
Export Image
Identify
Measure
Compute Histograms
Compute Statistics Histograms
Get Samples
Compute Class Statistics
Query Boundary
Compute Pixel Location
Compute Angles
Validate
Project