View In:
ArcGIS JavaScript
ArcGIS Online Map Viewer
ArcGIS Earth
ArcMap
View Footprint In:
ArcGIS Online Map Viewer
Service Description: Historical map showing boundaries, streets, transportation, cultural and tourist features. Shows detailed features of the park and the falls.
"Superintendents Office, Niagara Falls Feb. 1896"
Digital reproduction of map in the Public Archives of Canada. National Map Collection. Library and Archives Canada.
Relief shown by hachures
Georeferenced and modified from NMC Map number 4221 by Map, Data and GIS Library, Brock University.
Name: EarlyNiagara/NiagaraFalls1896NMC4221
Description: Historical map showing boundaries, streets, transportation, cultural and tourist features. Shows detailed features of the park and the falls.
"Superintendents Office, Niagara Falls Feb. 1896"
Digital reproduction of map in the Public Archives of Canada. National Map Collection. Library and Archives Canada.
Relief shown by hachures
Georeferenced and modified from NMC Map number 4221 by Map, Data and GIS Library, Brock University.
Single Fused Map Cache: false
Extent:
XMin: 655757.436373172
YMin: 4769564.441840925
XMax: 657913.847593172
YMax: 4773899.764700925
Spatial Reference: 26917
(26917)
Initial Extent:
XMin: 655757.436373172
YMin: 4769564.441840925
XMax: 657913.847593172
YMax: 4773899.764700925
Spatial Reference: 26917
(26917)
Full Extent:
XMin: 655757.436373172
YMin: 4769564.441840925
XMax: 657913.847593172
YMax: 4773899.764700925
Spatial Reference: 26917
(26917)
Pixel Size X: 0.725820000000003
Pixel Size Y: 0.7258199999999537
Band Count: 1
Pixel Type: U16
RasterFunction Infos: {"rasterFunctionInfos": [{
"name": "None",
"description": "",
"help": ""
}]}
Mensuration Capabilities: Basic
Has Histograms: true
Has Colormap: false
Has Multi Dimensions : false
Rendering Rule:
Min Scale: 0
Max Scale: 0
Copyright Text: Printed by The Copp, Clark Co. Ltd., Lith, TorontoMap, Data & GIS Library, Brock University.
Service Data Type: esriImageServiceDataTypeGeneric
Min Values: 11
Max Values: 255
Mean Values: 178.59141951838
Standard Deviation Values: 53.334439231863
Object ID Field:
Fields:
None
Default Mosaic Method: Center
Allowed Mosaic Methods:
SortField:
SortValue: null
Mosaic Operator: First
Default Compression Quality: 75
Default Resampling Method: Bilinear
Max Record Count: null
Max Image Height: 4100
Max Image Width: 15000
Max Download Image Count: null
Max Mosaic Image Count: null
Allow Raster Function: true
Allow Copy: true
Allow Analysis: true
Allow Compute TiePoints: false
Supports Statistics: false
Supports Advanced Queries: false
Use StandardizedQueries: true
Raster Type Infos:
Name: Raster Dataset
Description: Supports all ArcGIS Raster Datasets
Help:
Has Raster Attribute Table: false
Edit Fields Info: null
Ownership Based AccessControl For Rasters: null
Child Resources:
Info
Histograms
Statistics
Key Properties
Legend
Raster Function Infos
Supported Operations:
Export Image
Identify
Measure
Compute Histograms
Compute Statistics Histograms
Get Samples
Compute Class Statistics
Query Boundary
Compute Pixel Location
Compute Angles
Validate
Project