View In:
ArcGIS JavaScript
ArcGIS Online Map Viewer
ArcGIS Earth
ArcMap
View Footprint In:
ArcGIS Online Map Viewer
Service Description: Historical map showing international boundaries, hydrological features, streets, railroads, Electrical Development Company power houses, Ontario Power Company generating and distributing stations, Niagara Falls Power & Manufactoring Company power houses.
Relief shown by hachures.
Digital image provided by the University of Toronto Map and Library.
Georeferenced and modified by Map, Data and GIS Library, Brock University.
Name: EarlyNiagara/NiagaraFalls1904power
Description: Historical map showing international boundaries, hydrological features, streets, railroads, Electrical Development Company power houses, Ontario Power Company generating and distributing stations, Niagara Falls Power & Manufactoring Company power houses.
Relief shown by hachures.
Digital image provided by the University of Toronto Map and Library.
Georeferenced and modified by Map, Data and GIS Library, Brock University.
Single Fused Map Cache: false
Extent:
XMin: 654705.2839530774
YMin: 4768897.88209974
XMax: 660304.3603610774
YMax: 4774563.50101174
Spatial Reference: 26917
(26917)
Initial Extent:
XMin: 654705.2839530774
YMin: 4768897.88209974
XMax: 660304.3603610774
YMax: 4774563.50101174
Spatial Reference: 26917
(26917)
Full Extent:
XMin: 654705.2839530774
YMin: 4768897.88209974
XMax: 660304.3603610774
YMax: 4774563.50101174
Spatial Reference: 26917
(26917)
Pixel Size X: 1.1882589999999924
Pixel Size Y: 1.188259000000044
Band Count: 3
Pixel Type: U16
RasterFunction Infos: {"rasterFunctionInfos": [{
"name": "None",
"description": "",
"help": ""
}]}
Mensuration Capabilities: Basic
Has Histograms: true
Has Colormap: false
Has Multi Dimensions : false
Rendering Rule:
Min Scale: 0
Max Scale: 0
Copyright Text: Map, Data & GIS Library, Brock University.
Service Data Type: esriImageServiceDataTypeGeneric
Min Values: 0, 0, 0
Max Values: 255, 228, 204
Mean Values: 209.85485096877, 163.2278716708, 132.23015291871
Standard Deviation Values: 53.642595035497, 41.108014450171, 32.361245813141
Object ID Field:
Fields:
None
Default Mosaic Method: Center
Allowed Mosaic Methods:
SortField:
SortValue: null
Mosaic Operator: First
Default Compression Quality: 75
Default Resampling Method: Bilinear
Max Record Count: null
Max Image Height: 4100
Max Image Width: 15000
Max Download Image Count: null
Max Mosaic Image Count: null
Allow Raster Function: true
Allow Copy: true
Allow Analysis: true
Allow Compute TiePoints: false
Supports Statistics: false
Supports Advanced Queries: false
Use StandardizedQueries: true
Raster Type Infos:
Name: Raster Dataset
Description: Supports all ArcGIS Raster Datasets
Help:
Has Raster Attribute Table: false
Edit Fields Info: null
Ownership Based AccessControl For Rasters: null
Child Resources:
Info
Histograms
Statistics
Key Properties
Legend
Raster Function Infos
Supported Operations:
Export Image
Identify
Measure
Compute Histograms
Compute Statistics Histograms
Get Samples
Compute Class Statistics
Query Boundary
Compute Pixel Location
Compute Angles
Validate
Project