View In:
ArcGIS JavaScript
ArcGIS Online Map Viewer
ArcGIS Earth
ArcMap
View Footprint In:
ArcGIS Online Map Viewer
Service Description: Historical map showing boundary, road, transportation, cultural and recreational features, street names, legend. Relief shown by hachures. Oriented with north to the right. At head of title: Vernon-Might's "clearview" city directory map.
Name: EarlyNiagara/NiagaraFalls1931
Description: Historical map showing boundary, road, transportation, cultural and recreational features, street names, legend. Relief shown by hachures. Oriented with north to the right. At head of title: Vernon-Might's "clearview" city directory map.
Single Fused Map Cache: false
Extent:
XMin: 653859.0537075057
YMin: 4771294.601746068
XMax: 658245.5143308837
YMax: 4775731.172872494
Spatial Reference: 26917
(26917)
Initial Extent:
XMin: 653859.0537075057
YMin: 4771294.601746068
XMax: 658245.5143308837
YMax: 4775731.172872494
Spatial Reference: 26917
(26917)
Full Extent:
XMin: 653859.0537075057
YMin: 4771294.601746068
XMax: 658245.5143308837
YMax: 4775731.172872494
Spatial Reference: 26917
(26917)
Pixel Size X: 0.45347468452166345
Pixel Size Y: 0.46480577542437285
Band Count: 1
Pixel Type: U8
RasterFunction Infos: {"rasterFunctionInfos": [{
"name": "None",
"description": "",
"help": ""
}]}
Mensuration Capabilities: Basic
Has Histograms: true
Has Colormap: false
Has Multi Dimensions : false
Rendering Rule:
Min Scale: 0
Max Scale: 0
Copyright Text: Brock University Map, Data & GIS Library
Service Data Type: esriImageServiceDataTypeGeneric
Min Values: 0
Max Values: 255
Mean Values: 234.41773929981
Standard Deviation Values: 52.160503487892
Object ID Field:
Fields:
None
Default Mosaic Method: Center
Allowed Mosaic Methods:
SortField:
SortValue: null
Mosaic Operator: First
Default Compression Quality: 75
Default Resampling Method: Bilinear
Max Record Count: null
Max Image Height: 4100
Max Image Width: 15000
Max Download Image Count: null
Max Mosaic Image Count: null
Allow Raster Function: true
Allow Copy: true
Allow Analysis: true
Allow Compute TiePoints: false
Supports Statistics: false
Supports Advanced Queries: false
Use StandardizedQueries: true
Raster Type Infos:
Name: Raster Dataset
Description: Supports all ArcGIS Raster Datasets
Help:
Has Raster Attribute Table: false
Edit Fields Info: null
Ownership Based AccessControl For Rasters: null
Child Resources:
Info
Histograms
Statistics
Key Properties
Legend
Raster Function Infos
Supported Operations:
Export Image
Identify
Measure
Compute Histograms
Compute Statistics Histograms
Get Samples
Compute Class Statistics
Query Boundary
Compute Pixel Location
Compute Angles
Validate
Project