View In:
ArcGIS JavaScript
ArcGIS Online Map Viewer
ArcGIS Earth
ArcMap
View Footprint In:
ArcGIS Online Map Viewer
Service Description: Map showing streets and roads in Niagara Falls, highlighted downtown business area, and numbered points of interest. On verso: Index to streets, highways and points of interest,"Suggested scenic tours for motorists", illustrations, descriptive notes and advertisements. Title from panel.
Name: EarlyNiagara/NiagaraFalls1951
Description: Map showing streets and roads in Niagara Falls, highlighted downtown business area, and numbered points of interest. On verso: Index to streets, highways and points of interest,"Suggested scenic tours for motorists", illustrations, descriptive notes and advertisements. Title from panel.
Single Fused Map Cache: false
Extent:
XMin: 652386.2829956474
YMin: 4770632.313623523
XMax: 658357.4464732072
YMax: 4777500.764479438
Spatial Reference: 26917
(26917)
Initial Extent:
XMin: 652386.2829956474
YMin: 4770632.313623523
XMax: 658357.4464732072
YMax: 4777500.764479438
Spatial Reference: 26917
(26917)
Full Extent:
XMin: 652386.2829956474
YMin: 4770632.313623523
XMax: 658357.4464732072
YMax: 4777500.764479438
Spatial Reference: 26917
(26917)
Pixel Size X: 0.7120395274934184
Pixel Size Y: 0.9875558383773549
Band Count: 1
Pixel Type: U8
RasterFunction Infos: {"rasterFunctionInfos": [{
"name": "None",
"description": "",
"help": ""
}]}
Mensuration Capabilities: Basic
Has Histograms: true
Has Colormap: false
Has Multi Dimensions : false
Rendering Rule:
Min Scale: 0
Max Scale: 0
Copyright Text: Brock University Map, Data & GIS Library
Service Data Type: esriImageServiceDataTypeGeneric
Min Values: 0
Max Values: 255
Mean Values: 222.96681624905
Standard Deviation Values: 63.112082477023
Object ID Field:
Fields:
None
Default Mosaic Method: Center
Allowed Mosaic Methods:
SortField:
SortValue: null
Mosaic Operator: First
Default Compression Quality: 75
Default Resampling Method: Bilinear
Max Record Count: null
Max Image Height: 4100
Max Image Width: 15000
Max Download Image Count: null
Max Mosaic Image Count: null
Allow Raster Function: true
Allow Copy: true
Allow Analysis: true
Allow Compute TiePoints: false
Supports Statistics: false
Supports Advanced Queries: false
Use StandardizedQueries: true
Raster Type Infos:
Name: Raster Dataset
Description: Supports all ArcGIS Raster Datasets
Help:
Has Raster Attribute Table: false
Edit Fields Info: null
Ownership Based AccessControl For Rasters: null
Child Resources:
Info
Histograms
Statistics
Key Properties
Legend
Raster Function Infos
Supported Operations:
Export Image
Identify
Measure
Compute Histograms
Compute Statistics Histograms
Get Samples
Compute Class Statistics
Query Boundary
Compute Pixel Location
Compute Angles
Validate
Project