View In:
ArcGIS JavaScript
ArcGIS Online Map Viewer
ArcGIS Earth
ArcMap
View Footprint In:
ArcGIS Online Map Viewer
Service Description: Historical map showing boundary, road, transportation and cultural features. Includes index to streets and places of interest.
Name: EarlyNiagara/NiagaraFalls1952
Description: Historical map showing boundary, road, transportation and cultural features. Includes index to streets and places of interest.
Single Fused Map Cache: false
Extent:
XMin: 654354.688625881
YMin: 4769794.910843117
XMax: 658428.6881134873
YMax: 4775900.432068774
Spatial Reference: 26917
(26917)
Initial Extent:
XMin: 654354.688625881
YMin: 4769794.910843117
XMax: 658428.6881134873
YMax: 4775900.432068774
Spatial Reference: 26917
(26917)
Full Extent:
XMin: 654354.688625881
YMin: 4769794.910843117
XMax: 658428.6881134873
YMax: 4775900.432068774
Spatial Reference: 26917
(26917)
Pixel Size X: 0.45862878392506395
Pixel Size Y: 0.43063346210018216
Band Count: 1
Pixel Type: U8
RasterFunction Infos: {"rasterFunctionInfos": [{
"name": "None",
"description": "",
"help": ""
}]}
Mensuration Capabilities: Basic
Has Histograms: true
Has Colormap: false
Has Multi Dimensions : false
Rendering Rule:
Min Scale: 0
Max Scale: 0
Copyright Text: Brock University Map, Data & GIS Library
Service Data Type: esriImageServiceDataTypeGeneric
Min Values: 0
Max Values: 255
Mean Values: 226.52940083906
Standard Deviation Values: 62.660523909278
Object ID Field:
Fields:
None
Default Mosaic Method: Center
Allowed Mosaic Methods:
SortField:
SortValue: null
Mosaic Operator: First
Default Compression Quality: 75
Default Resampling Method: Bilinear
Max Record Count: null
Max Image Height: 4100
Max Image Width: 15000
Max Download Image Count: null
Max Mosaic Image Count: null
Allow Raster Function: true
Allow Copy: true
Allow Analysis: true
Allow Compute TiePoints: false
Supports Statistics: false
Supports Advanced Queries: false
Use StandardizedQueries: true
Raster Type Infos:
Name: Raster Dataset
Description: Supports all ArcGIS Raster Datasets
Help:
Has Raster Attribute Table: false
Edit Fields Info: null
Ownership Based AccessControl For Rasters: null
Child Resources:
Info
Histograms
Statistics
Key Properties
Legend
Raster Function Infos
Supported Operations:
Export Image
Identify
Measure
Compute Histograms
Compute Statistics Histograms
Get Samples
Compute Class Statistics
Query Boundary
Compute Pixel Location
Compute Angles
Validate
Project