View In:
ArcGIS JavaScript
ArcGIS Online Map Viewer
ArcGIS Earth
ArcMap
View Footprint In:
ArcGIS Online Map Viewer
Service Description: Map showing roads and streets, boundaries, hydrological features, lot numbers, legend. Ozalid print.
Name: EarlyNiagara/NiagaraFalls1968Canada
Description: Map showing roads and streets, boundaries, hydrological features, lot numbers, legend. Ozalid print.
Single Fused Map Cache: false
Extent:
XMin: 647616.6468542195
YMin: 4767230.673888681
XMax: 660694.6381780906
YMax: 4781315.825149041
Spatial Reference: 26917
(26917)
Initial Extent:
XMin: 647616.6468542195
YMin: 4767230.673888681
XMax: 660694.6381780906
YMax: 4781315.825149041
Spatial Reference: 26917
(26917)
Full Extent:
XMin: 647616.6468542195
YMin: 4767230.673888681
XMax: 660694.6381780906
YMax: 4781315.825149041
Spatial Reference: 26917
(26917)
Pixel Size X: 0.7718816811586539
Pixel Size Y: 0.7255151571216242
Band Count: 1
Pixel Type: U8
RasterFunction Infos: {"rasterFunctionInfos": [{
"name": "None",
"description": "",
"help": ""
}]}
Mensuration Capabilities: Basic
Has Histograms: true
Has Colormap: false
Has Multi Dimensions : false
Rendering Rule:
Min Scale: 0
Max Scale: 0
Copyright Text: Brock University Map, Data & GIS Library
Service Data Type: esriImageServiceDataTypeGeneric
Min Values: 0
Max Values: 254
Mean Values: 220.2209912661
Standard Deviation Values: 30.768721561822
Object ID Field:
Fields:
None
Default Mosaic Method: Center
Allowed Mosaic Methods:
SortField:
SortValue: null
Mosaic Operator: First
Default Compression Quality: 75
Default Resampling Method: Bilinear
Max Record Count: null
Max Image Height: 4100
Max Image Width: 15000
Max Download Image Count: null
Max Mosaic Image Count: null
Allow Raster Function: true
Allow Copy: true
Allow Analysis: true
Allow Compute TiePoints: false
Supports Statistics: false
Supports Advanced Queries: false
Use StandardizedQueries: true
Raster Type Infos:
Name: Raster Dataset
Description: Supports all ArcGIS Raster Datasets
Help:
Has Raster Attribute Table: false
Edit Fields Info: null
Ownership Based AccessControl For Rasters: null
Child Resources:
Info
Histograms
Statistics
Key Properties
Legend
Raster Function Infos
Supported Operations:
Export Image
Identify
Measure
Compute Histograms
Compute Statistics Histograms
Get Samples
Compute Class Statistics
Query Boundary
Compute Pixel Location
Compute Angles
Validate
Project