View In:
ArcGIS JavaScript
ArcGIS Online Map Viewer
ArcGIS Earth
ArcMap
View Footprint In:
ArcGIS Online Map Viewer
Service Description: Historical map showing buildings, lots, landowners' names, roads, Niagara River, Niagara Falls, boundaries of the Niagara Falls Park, Michigan Central Railroad.
"We hereby certify that the tract of land selected by as for the Niagara Falls Park is that included between the red line laid down on this map and the international boundary line in the Niagara River" [signed by 3 commissioners who's names are indecipherable.]
"Toronto, 4th December 1885"
Georeferenced by Map, Data and GIS Library, Brock University.
Name: EarlyNiagara/NiagaraFallsPark1885
Description: Historical map showing buildings, lots, landowners' names, roads, Niagara River, Niagara Falls, boundaries of the Niagara Falls Park, Michigan Central Railroad.
"We hereby certify that the tract of land selected by as for the Niagara Falls Park is that included between the red line laid down on this map and the international boundary line in the Niagara River" [signed by 3 commissioners who's names are indecipherable.]
"Toronto, 4th December 1885"
Georeferenced by Map, Data and GIS Library, Brock University.
Single Fused Map Cache: false
Extent:
XMin: 655820.2702725341
YMin: 4769751.427525471
XMax: 658003.0266905341
YMax: 4773147.340883471
Spatial Reference: 26917
(26917)
Initial Extent:
XMin: 655820.2702725341
YMin: 4769751.427525471
XMax: 658003.0266905341
YMax: 4773147.340883471
Spatial Reference: 26917
(26917)
Full Extent:
XMin: 655820.2702725341
YMin: 4769751.427525471
XMax: 658003.0266905341
YMax: 4773147.340883471
Spatial Reference: 26917
(26917)
Pixel Size X: 0.9260739999999895
Pixel Size Y: 0.9260740000000293
Band Count: 3
Pixel Type: U16
RasterFunction Infos: {"rasterFunctionInfos": [{
"name": "None",
"description": "",
"help": ""
}]}
Mensuration Capabilities: Basic
Has Histograms: true
Has Colormap: false
Has Multi Dimensions : false
Rendering Rule:
Min Scale: 0
Max Scale: 0
Copyright Text: Map, Data & GIS Library, Brock University.
Service Data Type: esriImageServiceDataTypeGeneric
Min Values: 0, 0, 0
Max Values: 255, 255, 255
Mean Values: 199.35929701453, 184.39034301665, 154.34881887149
Standard Deviation Values: 24.965463860943, 24.738326951059, 22.729496142161
Object ID Field:
Fields:
None
Default Mosaic Method: Center
Allowed Mosaic Methods:
SortField:
SortValue: null
Mosaic Operator: First
Default Compression Quality: 75
Default Resampling Method: Bilinear
Max Record Count: null
Max Image Height: 4100
Max Image Width: 15000
Max Download Image Count: null
Max Mosaic Image Count: null
Allow Raster Function: true
Allow Copy: true
Allow Analysis: true
Allow Compute TiePoints: false
Supports Statistics: false
Supports Advanced Queries: false
Use StandardizedQueries: true
Raster Type Infos:
Name: Raster Dataset
Description: Supports all ArcGIS Raster Datasets
Help:
Has Raster Attribute Table: false
Edit Fields Info: null
Ownership Based AccessControl For Rasters: null
Child Resources:
Info
Histograms
Statistics
Key Properties
Legend
Raster Function Infos
Supported Operations:
Export Image
Identify
Measure
Compute Histograms
Compute Statistics Histograms
Get Samples
Compute Class Statistics
Query Boundary
Compute Pixel Location
Compute Angles
Validate
Project