View In:
ArcGIS JavaScript
ArcGIS Online Map Viewer
ArcGIS Earth
ArcMap
View Footprint In:
ArcGIS Online Map Viewer
Service Description: Historical map showing lot numbers, landowners names, Niagara River.
Digital reproduction of map (18 1/2 x 17 in.) in the Public Archives of Canada. National Map Collection. Library and Archives Canada.
Georeferenced and modified from NMC Map number 3624 by Map, Data and GIS Library, Brock University.
Name: EarlyNiagara/NiagaraFallsStamford1797NMC3624
Description: Historical map showing lot numbers, landowners names, Niagara River.
Digital reproduction of map (18 1/2 x 17 in.) in the Public Archives of Canada. National Map Collection. Library and Archives Canada.
Georeferenced and modified from NMC Map number 3624 by Map, Data and GIS Library, Brock University.
Single Fused Map Cache: false
Extent:
XMin: 646765.2110843781
YMin: 4766201.318554619
XMax: 661281.157934378
YMax: 4780916.37375462
Spatial Reference: 26917
(26917)
Initial Extent:
XMin: 646765.2110843781
YMin: 4766201.318554619
XMax: 661281.157934378
YMax: 4780916.37375462
Spatial Reference: 26917
(26917)
Full Extent:
XMin: 646765.2110843781
YMin: 4766201.318554619
XMax: 661281.157934378
YMax: 4780916.37375462
Spatial Reference: 26917
(26917)
Pixel Size X: 3.160449999999989
Pixel Size Y: 3.160450000000063
Band Count: 1
Pixel Type: U16
RasterFunction Infos: {"rasterFunctionInfos": [{
"name": "None",
"description": "",
"help": ""
}]}
Mensuration Capabilities: Basic
Has Histograms: true
Has Colormap: false
Has Multi Dimensions : false
Rendering Rule:
Min Scale: 0
Max Scale: 0
Copyright Text: Map, Data & GIS Library, Brock University.
Service Data Type: esriImageServiceDataTypeGeneric
Min Values: 6
Max Values: 254
Mean Values: 157.19915962967
Standard Deviation Values: 29.681673508751
Object ID Field:
Fields:
None
Default Mosaic Method: Center
Allowed Mosaic Methods:
SortField:
SortValue: null
Mosaic Operator: First
Default Compression Quality: 75
Default Resampling Method: Bilinear
Max Record Count: null
Max Image Height: 4100
Max Image Width: 15000
Max Download Image Count: null
Max Mosaic Image Count: null
Allow Raster Function: true
Allow Copy: true
Allow Analysis: true
Allow Compute TiePoints: false
Supports Statistics: false
Supports Advanced Queries: false
Use StandardizedQueries: true
Raster Type Infos:
Name: Raster Dataset
Description: Supports all ArcGIS Raster Datasets
Help:
Has Raster Attribute Table: false
Edit Fields Info: null
Ownership Based AccessControl For Rasters: null
Child Resources:
Info
Histograms
Statistics
Key Properties
Legend
Raster Function Infos
Supported Operations:
Export Image
Identify
Measure
Compute Histograms
Compute Statistics Histograms
Get Samples
Compute Class Statistics
Query Boundary
Compute Pixel Location
Compute Angles
Validate
Project