View In:
ArcGIS JavaScript
ArcGIS Online Map Viewer
ArcGIS Earth
ArcMap
View Footprint In:
ArcGIS Online Map Viewer
Service Description: Historical map showing the falls, the military reserve, roads, lot numbers, "Ontario House", "Pavillion" and "Assembly room". "(Signed) William Hawkins D.P.S. (Copy) J.G. Chewett Surveyor Genl Office 20 April 1836 (Signed) J. Radenhurst (Certified as a true Copy) T.G.W. Eaststaff Draugn" Includes 4 vertical cross sections at the top. Relief shown by shading and landform drawings. Oriented with north to the right. NMC-22535 Described in: Mapping Upper Canada, 1780-1867 / Joan Winearls. 1991. Reference no.: 1660
Name: EarlyNiagara/NiagaraFallsStamford1834
Description: Historical map showing the falls, the military reserve, roads, lot numbers, "Ontario House", "Pavillion" and "Assembly room". "(Signed) William Hawkins D.P.S. (Copy) J.G. Chewett Surveyor Genl Office 20 April 1836 (Signed) J. Radenhurst (Certified as a true Copy) T.G.W. Eaststaff Draugn" Includes 4 vertical cross sections at the top. Relief shown by shading and landform drawings. Oriented with north to the right. NMC-22535 Described in: Mapping Upper Canada, 1780-1867 / Joan Winearls. 1991. Reference no.: 1660
Single Fused Map Cache: false
Extent:
XMin: 653102.274954815
YMin: 4768346.060215246
XMax: 657791.8981065734
YMax: 4774212.356448561
Spatial Reference: 26917
(26917)
Initial Extent:
XMin: 653102.274954815
YMin: 4768346.060215246
XMax: 657791.8981065734
YMax: 4774212.356448561
Spatial Reference: 26917
(26917)
Full Extent:
XMin: 653102.274954815
YMin: 4768346.060215246
XMax: 657791.8981065734
YMax: 4774212.356448561
Spatial Reference: 26917
(26917)
Pixel Size X: 0.6055033120411022
Pixel Size Y: 0.9900921912767967
Band Count: 1
Pixel Type: U8
RasterFunction Infos: {"rasterFunctionInfos": [{
"name": "None",
"description": "",
"help": ""
}]}
Mensuration Capabilities: Basic
Has Histograms: true
Has Colormap: false
Has Multi Dimensions : false
Rendering Rule:
Min Scale: 0
Max Scale: 0
Copyright Text: Brock University Map, Data & GIS Library
Service Data Type: esriImageServiceDataTypeGeneric
Min Values: 0
Max Values: 255
Mean Values: 177.77172600265
Standard Deviation Values: 70.959270575909
Object ID Field:
Fields:
None
Default Mosaic Method: Center
Allowed Mosaic Methods:
SortField:
SortValue: null
Mosaic Operator: First
Default Compression Quality: 75
Default Resampling Method: Bilinear
Max Record Count: null
Max Image Height: 4100
Max Image Width: 15000
Max Download Image Count: null
Max Mosaic Image Count: null
Allow Raster Function: true
Allow Copy: true
Allow Analysis: true
Allow Compute TiePoints: false
Supports Statistics: false
Supports Advanced Queries: false
Use StandardizedQueries: true
Raster Type Infos:
Name: Raster Dataset
Description: Supports all ArcGIS Raster Datasets
Help:
Has Raster Attribute Table: false
Edit Fields Info: null
Ownership Based AccessControl For Rasters: null
Child Resources:
Info
Histograms
Statistics
Key Properties
Legend
Raster Function Infos
Supported Operations:
Export Image
Identify
Measure
Compute Histograms
Compute Statistics Histograms
Get Samples
Compute Class Statistics
Query Boundary
Compute Pixel Location
Compute Angles
Validate
Project