View In:
ArcGIS JavaScript
ArcGIS Online Map Viewer
ArcGIS Earth
ArcMap
View Footprint In:
ArcGIS Online Map Viewer
Service Description: Map showing lot numbers with landowners' names, roads, railroads, battle fields identified with symbol.
Digital reproduction of map on page 54 of Illustrated historical atlas of the counties of Lincoln and Welland, Ont., Toronto : H.R. Page, 1876
Relief shown by hachures.
Georeferenced and modified by Map, Data and GIS Library, Brock University.
Name: EarlyNiagara/NiagaraFallsStamford1876
Description: Map showing lot numbers with landowners' names, roads, railroads, battle fields identified with symbol.
Digital reproduction of map on page 54 of Illustrated historical atlas of the counties of Lincoln and Welland, Ont., Toronto : H.R. Page, 1876
Relief shown by hachures.
Georeferenced and modified by Map, Data and GIS Library, Brock University.
Single Fused Map Cache: false
Extent:
XMin: 647781.5370021929
YMin: 4766072.176933215
XMax: 660006.3833521929
YMax: 4781112.603208215
Spatial Reference: 26917
(26917)
Initial Extent:
XMin: 647781.5370021929
YMin: 4766072.176933215
XMax: 660006.3833521929
YMax: 4781112.603208215
Spatial Reference: 26917
(26917)
Full Extent:
XMin: 647781.5370021929
YMin: 4766072.176933215
XMax: 660006.3833521929
YMax: 4781112.603208215
Spatial Reference: 26917
(26917)
Pixel Size X: 3.789475000000002
Pixel Size Y: 3.789474999999994
Band Count: 3
Pixel Type: U16
RasterFunction Infos: {"rasterFunctionInfos": [{
"name": "None",
"description": "",
"help": ""
}]}
Mensuration Capabilities: Basic
Has Histograms: true
Has Colormap: false
Has Multi Dimensions : false
Rendering Rule:
Min Scale: 0
Max Scale: 0
Copyright Text: ["Map signed by"]
Service Data Type: esriImageServiceDataTypeGeneric
Min Values: 0, 0, 0
Max Values: 255, 255, 255
Mean Values: 196.50436285833, 176.24848016119, 142.72421243483
Standard Deviation Values: 53.220831166548, 49.159576746234, 45.371925771697
Object ID Field:
Fields:
None
Default Mosaic Method: Center
Allowed Mosaic Methods:
SortField:
SortValue: null
Mosaic Operator: First
Default Compression Quality: 75
Default Resampling Method: Bilinear
Max Record Count: null
Max Image Height: 4100
Max Image Width: 15000
Max Download Image Count: null
Max Mosaic Image Count: null
Allow Raster Function: true
Allow Copy: true
Allow Analysis: true
Allow Compute TiePoints: false
Supports Statistics: false
Supports Advanced Queries: false
Use StandardizedQueries: true
Raster Type Infos:
Name: Raster Dataset
Description: Supports all ArcGIS Raster Datasets
Help:
Has Raster Attribute Table: false
Edit Fields Info: null
Ownership Based AccessControl For Rasters: null
Child Resources:
Info
Histograms
Statistics
Key Properties
Legend
Raster Function Infos
Supported Operations:
Export Image
Identify
Measure
Compute Histograms
Compute Statistics Histograms
Get Samples
Compute Class Statistics
Query Boundary
Compute Pixel Location
Compute Angles
Validate
Project