View In:
ArcGIS JavaScript
ArcGIS Online Map Viewer
ArcGIS Earth
ArcMap
View Footprint In:
ArcGIS Online Map Viewer
Service Description: Map date: 1855 Oriented with north to the bottom. Relief shown by hachures. Digital reproduction of folded map in "Tunis's topographical and pictorial guide to Niagara." Niagara Falls : W. E. Tunis, 1855, located in Brock University Archives and Special Collections call # SPCL F 127 N8 T9 1855. Georeferenced and modified by Map, Data and GIS Library, Brock University.
Name: EarlyNiagara/NiagaraFallsTunis1855
Description: Map date: 1855 Oriented with north to the bottom. Relief shown by hachures. Digital reproduction of folded map in "Tunis's topographical and pictorial guide to Niagara." Niagara Falls : W. E. Tunis, 1855, located in Brock University Archives and Special Collections call # SPCL F 127 N8 T9 1855. Georeferenced and modified by Map, Data and GIS Library, Brock University.
Single Fused Map Cache: false
Extent:
XMin: -8803019.13502624
YMin: 5321745.1455889335
XMax: -8796504.60472624
YMax: 5328669.252793933
Spatial Reference: 102100
(3857)
Initial Extent:
XMin: -8803019.13502624
YMin: 5321745.1455889335
XMax: -8796504.60472624
YMax: 5328669.252793933
Spatial Reference: 102100
(3857)
Full Extent:
XMin: -8803019.13502624
YMin: 5321745.1455889335
XMax: -8796504.60472624
YMax: 5328669.252793933
Spatial Reference: 102100
(3857)
Pixel Size X: 1.0750050000001126
Pixel Size Y: 1.0750049999999651
Band Count: 1
Pixel Type: U16
RasterFunction Infos: {"rasterFunctionInfos": [{
"name": "None",
"description": "",
"help": ""
}]}
Mensuration Capabilities: Basic
Has Histograms: true
Has Colormap: false
Has Multi Dimensions : false
Rendering Rule:
Min Scale: 0
Max Scale: 0
Copyright Text: W. E. Tunis Publishers
Map, Data & GIS Library, Brock University.
Service Data Type: esriImageServiceDataTypeGeneric
Min Values: 0
Max Values: 251
Mean Values: 175.8912901174
Standard Deviation Values: 51.276344761936
Object ID Field:
Fields:
None
Default Mosaic Method: Center
Allowed Mosaic Methods:
SortField:
SortValue: null
Mosaic Operator: First
Default Compression Quality: 75
Default Resampling Method: Bilinear
Max Record Count: null
Max Image Height: 4100
Max Image Width: 15000
Max Download Image Count: null
Max Mosaic Image Count: null
Allow Raster Function: true
Allow Copy: true
Allow Analysis: true
Allow Compute TiePoints: false
Supports Statistics: false
Supports Advanced Queries: false
Use StandardizedQueries: true
Raster Type Infos:
Name: Raster Dataset
Description: Supports all ArcGIS Raster Datasets
Help:
Has Raster Attribute Table: false
Edit Fields Info: null
Ownership Based AccessControl For Rasters: null
Child Resources:
Info
Histograms
Statistics
Key Properties
Legend
Raster Function Infos
Supported Operations:
Export Image
Identify
Measure
Compute Histograms
Compute Statistics Histograms
Get Samples
Compute Class Statistics
Query Boundary
Compute Pixel Location
Compute Angles
Validate
Project