View In:
ArcGIS JavaScript
ArcGIS Online Map Viewer
ArcGIS Earth
ArcMap
View Footprint In:
ArcGIS Online Map Viewer
Service Description: Map date: 1857. Relief shown by hachures. Full title: A map of the vicinity of Niagara Falls drawn from actual survey for Tunis' Guide by J.H. Fairbank."Entered according to Act of congress, in the year 1857, by W.E. Tunis," - bottom margin. Digital reproduction of folded map in "Tunis's topographical and pictorial guide to Niagara Falls". Detroit : W.E. Tunis, [1872], located in Brock University Archives and Special Collections call # SPCL F 127 N8 T9 1872. Georeferenced and modified by Map, Data and GIS Library, Brock University.
Name: EarlyNiagara/NiagaraFallsTunis1857
Description: Map date: 1857. Relief shown by hachures. Full title: A map of the vicinity of Niagara Falls drawn from actual survey for Tunis' Guide by J.H. Fairbank."Entered according to Act of congress, in the year 1857, by W.E. Tunis," - bottom margin. Digital reproduction of folded map in "Tunis's topographical and pictorial guide to Niagara Falls". Detroit : W.E. Tunis, [1872], located in Brock University Archives and Special Collections call # SPCL F 127 N8 T9 1872. Georeferenced and modified by Map, Data and GIS Library, Brock University.
Single Fused Map Cache: false
Extent:
XMin: -8805460.869774593
YMin: 5319456.151496724
XMax: -8790086.951246593
YMax: 5331598.601753724
Spatial Reference: 102100
(3857)
Initial Extent:
XMin: -8805460.869774593
YMin: 5319456.151496724
XMax: -8790086.951246593
YMax: 5331598.601753724
Spatial Reference: 102100
(3857)
Full Extent:
XMin: -8805460.869774593
YMin: 5319456.151496724
XMax: -8790086.951246593
YMax: 5331598.601753724
Spatial Reference: 102100
(3857)
Pixel Size X: 1.2071229999999915
Pixel Size Y: 1.2071229999999584
Band Count: 3
Pixel Type: U16
RasterFunction Infos: {"rasterFunctionInfos": [{
"name": "None",
"description": "",
"help": ""
}]}
Mensuration Capabilities: Basic
Has Histograms: true
Has Colormap: false
Has Multi Dimensions : false
Rendering Rule:
Min Scale: 0
Max Scale: 0
Copyright Text: J. H. Fairbank
W. E. Tunis
E. R. Jewett & Company, Buffalo N.Y.
; Map, Data & GIS Library, Brock University.
Service Data Type: esriImageServiceDataTypeGeneric
Min Values: 0, 0, 0
Max Values: 255, 255, 255
Mean Values: 208.31412866421, 168.34358353216, 175.95509103272
Standard Deviation Values: 46.958343009577, 40.103125294964, 44.289707480228
Object ID Field:
Fields:
None
Default Mosaic Method: Center
Allowed Mosaic Methods:
SortField:
SortValue: null
Mosaic Operator: First
Default Compression Quality: 75
Default Resampling Method: Bilinear
Max Record Count: null
Max Image Height: 4100
Max Image Width: 15000
Max Download Image Count: null
Max Mosaic Image Count: null
Allow Raster Function: true
Allow Copy: true
Allow Analysis: true
Allow Compute TiePoints: false
Supports Statistics: false
Supports Advanced Queries: false
Use StandardizedQueries: true
Raster Type Infos:
Name: Raster Dataset
Description: Supports all ArcGIS Raster Datasets
Help:
Has Raster Attribute Table: false
Edit Fields Info: null
Ownership Based AccessControl For Rasters: null
Child Resources:
Info
Histograms
Statistics
Key Properties
Legend
Raster Function Infos
Supported Operations:
Export Image
Identify
Measure
Compute Histograms
Compute Statistics Histograms
Get Samples
Compute Class Statistics
Query Boundary
Compute Pixel Location
Compute Angles
Validate
Project