View In:
ArcGIS JavaScript
ArcGIS Online Map Viewer
ArcGIS Earth
ArcMap
View Footprint In:
ArcGIS Online Map Viewer
Service Description: Historical map showing military sites, towns, wooded areas, roads, railways and the second Welland Canal. Includes index to military sites: place of arms on the Short Hills, proposed work at Fort Erie, proposed battery opposite Black Rock, proposed work at mouth of Chippewa Creek, site or entrenched camp & temporary batteries on Queenston Heights, Fort Mississaugua, proposed works at Port Dalhousie, proposed work at Port Colborne, site of entrenched position at Thorold.
Complete title: Plan No. 8. The Niagara Frontier and Welland Canal
Relief shown by shading.
Scale [1:63,360] 1 " to 1 mile.
Map date: 1862
Digital reproduction of map (84 x 67 cm.) in the Public Archives of Canada. National Map Collection. Library and Archives Canada.
Georeferenced and modified from NMC Map number 26837 by Map, Data and GIS Library, Brock University.
Name: EarlyNiagara/NiagaraFrontier1862NMC26837
Description: Historical map showing military sites, towns, wooded areas, roads, railways and the second Welland Canal. Includes index to military sites: place of arms on the Short Hills, proposed work at Fort Erie, proposed battery opposite Black Rock, proposed work at mouth of Chippewa Creek, site or entrenched camp & temporary batteries on Queenston Heights, Fort Mississaugua, proposed works at Port Dalhousie, proposed work at Port Colborne, site of entrenched position at Thorold.
Complete title: Plan No. 8. The Niagara Frontier and Welland Canal
Relief shown by shading.
Scale [1:63,360] 1 " to 1 mile.
Map date: 1862
Digital reproduction of map (84 x 67 cm.) in the Public Archives of Canada. National Map Collection. Library and Archives Canada.
Georeferenced and modified from NMC Map number 26837 by Map, Data and GIS Library, Brock University.
Single Fused Map Cache: false
Extent:
XMin: 628731.579566476
YMin: 4740674.086590872
XMax: 674894.8582664761
YMax: 4794767.765790872
Spatial Reference: 26917
(26917)
Initial Extent:
XMin: 628731.579566476
YMin: 4740674.086590872
XMax: 674894.8582664761
YMax: 4794767.765790872
Spatial Reference: 26917
(26917)
Full Extent:
XMin: 628731.579566476
YMin: 4740674.086590872
XMax: 674894.8582664761
YMax: 4794767.765790872
Spatial Reference: 26917
(26917)
Pixel Size X: 7.588900000000004
Pixel Size Y: 7.588900000000018
Band Count: 1
Pixel Type: U16
RasterFunction Infos: {"rasterFunctionInfos": [{
"name": "None",
"description": "",
"help": ""
}]}
Mensuration Capabilities: Basic
Has Histograms: false
Has Colormap: false
Has Multi Dimensions : false
Rendering Rule:
Min Scale: 0
Max Scale: 0
Copyright Text: Map, Data & GIS Library, Brock University.
Service Data Type: esriImageServiceDataTypeGeneric
Min Values: N/A
Max Values: N/A
Mean Values: N/A
Standard Deviation Values: N/A
Object ID Field:
Fields:
None
Default Mosaic Method: Center
Allowed Mosaic Methods:
SortField:
SortValue: null
Mosaic Operator: First
Default Compression Quality: 75
Default Resampling Method: Bilinear
Max Record Count: null
Max Image Height: 4100
Max Image Width: 15000
Max Download Image Count: null
Max Mosaic Image Count: null
Allow Raster Function: true
Allow Copy: true
Allow Analysis: true
Allow Compute TiePoints: false
Supports Statistics: false
Supports Advanced Queries: false
Use StandardizedQueries: true
Raster Type Infos:
Name: Raster Dataset
Description: Supports all ArcGIS Raster Datasets
Help:
Has Raster Attribute Table: false
Edit Fields Info: null
Ownership Based AccessControl For Rasters: null
Child Resources:
Info
Statistics
Key Properties
Legend
Raster Function Infos
Supported Operations:
Export Image
Identify
Measure
Compute Histograms
Compute Statistics Histograms
Get Samples
Compute Class Statistics
Query Boundary
Compute Pixel Location
Compute Angles
Validate
Project