View In:
ArcGIS JavaScript
ArcGIS Online Map Viewer
ArcGIS Earth
ArcMap
View Footprint In:
ArcGIS Online Map Viewer
Service Description: Historical map showing roads, boundaries, populated places, railways, Welland Canal and hydrological features.
"Plan 2" in top right margin.
Scale 1 in to statute mile.
Relief shown by hachures.
Map date: 1865.
Digital reproduction of map in the Public Archives of Canada. National Map Collection. Library and Archives Canada.
Georeferenced and modified from NMC Map number 54254 by Map, Data and GIS Library, Brock University.
Name: EarlyNiagara/NiagaraFrontier1865NMC54254
Description: Historical map showing roads, boundaries, populated places, railways, Welland Canal and hydrological features.
"Plan 2" in top right margin.
Scale 1 in to statute mile.
Relief shown by hachures.
Map date: 1865.
Digital reproduction of map in the Public Archives of Canada. National Map Collection. Library and Archives Canada.
Georeferenced and modified from NMC Map number 54254 by Map, Data and GIS Library, Brock University.
Single Fused Map Cache: false
Extent:
XMin: 618915.839771205
YMin: 4740284.326509156
XMax: 663887.116471205
YMax: 4801341.789087156
Spatial Reference: 26917
(26917)
Initial Extent:
XMin: 618915.839771205
YMin: 4740284.326509156
XMax: 663887.116471205
YMax: 4801341.789087156
Spatial Reference: 26917
(26917)
Full Extent:
XMin: 618915.839771205
YMin: 4740284.326509156
XMax: 663887.116471205
YMax: 4801341.789087156
Spatial Reference: 26917
(26917)
Pixel Size X: 7.959518000000008
Pixel Size Y: 7.959517999999944
Band Count: 1
Pixel Type: U16
RasterFunction Infos: {"rasterFunctionInfos": [{
"name": "None",
"description": "",
"help": ""
}]}
Mensuration Capabilities: Basic
Has Histograms: true
Has Colormap: false
Has Multi Dimensions : false
Rendering Rule:
Min Scale: 0
Max Scale: 0
Copyright Text: From sketches by Capt. Stotherd & Lieut. Price & Colonel Henry Malet
Zincographed at the War Office Southampton, Sir Henry James director.
Map, Data & GIS Library, Brock University.
Service Data Type: esriImageServiceDataTypeGeneric
Min Values: 12
Max Values: 255
Mean Values: 198.46252576624
Standard Deviation Values: 46.330763798751
Object ID Field:
Fields:
None
Default Mosaic Method: Center
Allowed Mosaic Methods:
SortField:
SortValue: null
Mosaic Operator: First
Default Compression Quality: 75
Default Resampling Method: Bilinear
Max Record Count: null
Max Image Height: 4100
Max Image Width: 15000
Max Download Image Count: null
Max Mosaic Image Count: null
Allow Raster Function: true
Allow Copy: true
Allow Analysis: true
Allow Compute TiePoints: false
Supports Statistics: false
Supports Advanced Queries: false
Use StandardizedQueries: true
Raster Type Infos:
Name: Raster Dataset
Description: Supports all ArcGIS Raster Datasets
Help:
Has Raster Attribute Table: false
Edit Fields Info: null
Ownership Based AccessControl For Rasters: null
Child Resources:
Info
Histograms
Statistics
Key Properties
Legend
Raster Function Infos
Supported Operations:
Export Image
Identify
Measure
Compute Histograms
Compute Statistics Histograms
Get Samples
Compute Class Statistics
Query Boundary
Compute Pixel Location
Compute Angles
Validate
Project