View In:
ArcGIS JavaScript
ArcGIS Online Map Viewer
ArcGIS Earth
ArcMap
View Footprint In:
ArcGIS Online Map Viewer
Service Description: Map date: 1937.
Scale [1:36,000] or 3000 ft - 1 in.
Digital reproduction of map (100 x 63 cm.)
Plan no. 7902. Index no.9-B-0.
Georeferenced and modified from map in Map, Data and GIS Library, Brock University, call number G 3463 N54 N4 1937 P87
Name: EarlyNiagara/NiagaraFrontier1937
Description: Map date: 1937.
Scale [1:36,000] or 3000 ft - 1 in.
Digital reproduction of map (100 x 63 cm.)
Plan no. 7902. Index no.9-B-0.
Georeferenced and modified from map in Map, Data and GIS Library, Brock University, call number G 3463 N54 N4 1937 P87
Single Fused Map Cache: false
Extent:
XMin: 647212.601210752
YMin: 4742927.51126628
XMax: 673067.564666752
YMax: 4781142.58096228
Spatial Reference: 26917
(26917)
Initial Extent:
XMin: 647212.601210752
YMin: 4742927.51126628
XMax: 673067.564666752
YMax: 4781142.58096228
Spatial Reference: 26917
(26917)
Full Extent:
XMin: 647212.601210752
YMin: 4742927.51126628
XMax: 673067.564666752
YMax: 4781142.58096228
Spatial Reference: 26917
(26917)
Pixel Size X: 3.214591999999996
Pixel Size Y: 3.2145919999999872
Band Count: 3
Pixel Type: U16
RasterFunction Infos: {"rasterFunctionInfos": [{
"name": "None",
"description": "",
"help": ""
}]}
Mensuration Capabilities: Basic
Has Histograms: true
Has Colormap: false
Has Multi Dimensions : false
Rendering Rule:
Min Scale: 0
Max Scale: 0
Copyright Text: Drawn by A.E. Putman.
Map, Data & GIS Library, Brock University.
Service Data Type: esriImageServiceDataTypeGeneric
Min Values: 0, 0, 0
Max Values: 255, 255, 255
Mean Values: 203.97749546048, 180.50933781297, 169.53005554971
Standard Deviation Values: 28.18008295403, 21.587794676254, 13.097661804634
Object ID Field:
Fields:
None
Default Mosaic Method: Center
Allowed Mosaic Methods:
SortField:
SortValue: null
Mosaic Operator: First
Default Compression Quality: 75
Default Resampling Method: Bilinear
Max Record Count: null
Max Image Height: 4100
Max Image Width: 15000
Max Download Image Count: null
Max Mosaic Image Count: null
Allow Raster Function: true
Allow Copy: true
Allow Analysis: true
Allow Compute TiePoints: false
Supports Statistics: false
Supports Advanced Queries: false
Use StandardizedQueries: true
Raster Type Infos:
Name: Raster Dataset
Description: Supports all ArcGIS Raster Datasets
Help:
Has Raster Attribute Table: false
Edit Fields Info: null
Ownership Based AccessControl For Rasters: null
Child Resources:
Info
Histograms
Statistics
Key Properties
Legend
Raster Function Infos
Supported Operations:
Export Image
Identify
Measure
Compute Histograms
Compute Statistics Histograms
Get Samples
Compute Class Statistics
Query Boundary
Compute Pixel Location
Compute Angles
Validate
Project