View In:
ArcGIS JavaScript
ArcGIS Online Map Viewer
ArcGIS Earth
ArcMap
View Footprint In:
ArcGIS Online Map Viewer
Service Description: Historical map showing roads, concessions, populated places and buildings.
Scale one inch to a statute mile.
Includes additional text signed and date 1867.
Map date 1867.
Relief shown by hachures.
Digital reproduction of map (48 x 34 cm.) in the Brock University Map, Data & GIS Library collection.
Georeferenced and modified from Brock call# G 3462 N53 1867 G74 1978 by Map, Data and GIS Library, Brock University.
Name: EarlyNiagara/NiagaraFrontierPlan2_1867
Description: Historical map showing roads, concessions, populated places and buildings.
Scale one inch to a statute mile.
Includes additional text signed and date 1867.
Map date 1867.
Relief shown by hachures.
Digital reproduction of map (48 x 34 cm.) in the Brock University Map, Data & GIS Library collection.
Georeferenced and modified from Brock call# G 3462 N53 1867 G74 1978 by Map, Data and GIS Library, Brock University.
Single Fused Map Cache: false
Extent:
XMin: 618101.7225000514
YMin: 4736129.380027273
XMax: 665470.9691310513
YMax: 4801208.000662273
Spatial Reference: 26917
(26917)
Initial Extent:
XMin: 618101.7225000514
YMin: 4736129.380027273
XMax: 665470.9691310513
YMax: 4801208.000662273
Spatial Reference: 26917
(26917)
Full Extent:
XMin: 618101.7225000514
YMin: 4736129.380027273
XMax: 665470.9691310513
YMax: 4801208.000662273
Spatial Reference: 26917
(26917)
Pixel Size X: 11.09609899999999
Pixel Size Y: 11.09609900000001
Band Count: 1
Pixel Type: U16
RasterFunction Infos: {"rasterFunctionInfos": [{
"name": "None",
"description": "",
"help": ""
}]}
Mensuration Capabilities: Basic
Has Histograms: true
Has Colormap: false
Has Multi Dimensions : false
Rendering Rule:
Min Scale: 0
Max Scale: 0
Copyright Text: Sketches by Capt. R.H. Stotherd.
Originally published: Southampton, Eng. : Topographic Dept. of the War Office, 1865
Reproduced from an original in the National Map Collection, Public Archives of Canada, by Association of Canadian Map Libraries, 1978.
Map, Data & GIS Library, Brock University.
Service Data Type: esriImageServiceDataTypeGeneric
Min Values: 0
Max Values: 255
Mean Values: 218.96952816772
Standard Deviation Values: 48.997561964868
Object ID Field:
Fields:
None
Default Mosaic Method: Center
Allowed Mosaic Methods:
SortField:
SortValue: null
Mosaic Operator: First
Default Compression Quality: 75
Default Resampling Method: Bilinear
Max Record Count: null
Max Image Height: 4100
Max Image Width: 15000
Max Download Image Count: null
Max Mosaic Image Count: null
Allow Raster Function: true
Allow Copy: true
Allow Analysis: true
Allow Compute TiePoints: false
Supports Statistics: false
Supports Advanced Queries: false
Use StandardizedQueries: true
Raster Type Infos:
Name: Raster Dataset
Description: Supports all ArcGIS Raster Datasets
Help:
Has Raster Attribute Table: false
Edit Fields Info: null
Ownership Based AccessControl For Rasters: null
Child Resources:
Info
Histograms
Statistics
Key Properties
Legend
Raster Function Infos
Supported Operations:
Export Image
Identify
Measure
Compute Histograms
Compute Statistics Histograms
Get Samples
Compute Class Statistics
Query Boundary
Compute Pixel Location
Compute Angles
Validate
Project