View In:
ArcGIS JavaScript
ArcGIS Online Map Viewer
ArcGIS Earth
ArcMap
View Footprint In:
ArcGIS Online Map Viewer
Service Description: Historical map showing road, transportation and hydrological features, buildings.
Scale: 1:12,000
Relief shown by contours and spot heights.
Map date: 1913
Digital reproduction of map (117 x 44 cm.) in the Brock University Map, Data & GIS Library collection.
Georeferenced and modified from Brock call# G 3312 N52 1913 U5 by Map, Data and GIS Library, Brock University.
Name: EarlyNiagara/NiagaraGorge1913
Description: Historical map showing road, transportation and hydrological features, buildings.
Scale: 1:12,000
Relief shown by contours and spot heights.
Map date: 1913
Digital reproduction of map (117 x 44 cm.) in the Brock University Map, Data & GIS Library collection.
Georeferenced and modified from Brock call# G 3312 N52 1913 U5 by Map, Data and GIS Library, Brock University.
Single Fused Map Cache: false
Extent:
XMin: 654294.2708695957
YMin: 4768167.0596577935
XMax: 661343.6224855958
YMax: 4783665.867680794
Spatial Reference: 26917
(26917)
Initial Extent:
XMin: 654294.2708695957
YMin: 4768167.0596577935
XMax: 661343.6224855958
YMax: 4783665.867680794
Spatial Reference: 26917
(26917)
Full Extent:
XMin: 654294.2708695957
YMin: 4768167.0596577935
XMax: 661343.6224855958
YMax: 4783665.867680794
Spatial Reference: 26917
(26917)
Pixel Size X: 1.1355270000000093
Pixel Size Y: 1.13552700000001
Band Count: 3
Pixel Type: U16
RasterFunction Infos: {"rasterFunctionInfos": [{
"name": "None",
"description": "",
"help": ""
}]}
Mensuration Capabilities: Basic
Has Histograms: true
Has Colormap: false
Has Multi Dimensions : false
Rendering Rule:
Min Scale: 0
Max Scale: 0
Copyright Text: Surveyed in cooperation, United States Geological Survey [and] Geological Survey of Canada.
Map, Data & GIS Library, Brock University.
Service Data Type: esriImageServiceDataTypeGeneric
Min Values: 0, 0, 0
Max Values: 255, 255, 255
Mean Values: 217.33186673559, 211.67274996857, 190.75146321289
Standard Deviation Values: 49.420571958763, 46.840828472836, 42.520801405434
Object ID Field:
Fields:
None
Default Mosaic Method: Center
Allowed Mosaic Methods:
SortField:
SortValue: null
Mosaic Operator: First
Default Compression Quality: 75
Default Resampling Method: Bilinear
Max Record Count: null
Max Image Height: 4100
Max Image Width: 15000
Max Download Image Count: null
Max Mosaic Image Count: null
Allow Raster Function: true
Allow Copy: true
Allow Analysis: true
Allow Compute TiePoints: false
Supports Statistics: false
Supports Advanced Queries: false
Use StandardizedQueries: true
Raster Type Infos:
Name: Raster Dataset
Description: Supports all ArcGIS Raster Datasets
Help:
Has Raster Attribute Table: false
Edit Fields Info: null
Ownership Based AccessControl For Rasters: null
Child Resources:
Info
Histograms
Statistics
Key Properties
Legend
Raster Function Infos
Supported Operations:
Export Image
Identify
Measure
Compute Histograms
Compute Statistics Histograms
Get Samples
Compute Class Statistics
Query Boundary
Compute Pixel Location
Compute Angles
Validate
Project