View In:
ArcGIS JavaScript
ArcGIS Online Map Viewer
ArcGIS Earth
ArcMap
View Footprint In:
ArcGIS Online Map Viewer
Service Description: Historical map showing the area from 15 Mile Creek to Chippawa Creek at the Niagara River. It shows the escarpment, wooded areas, roads, some houses and names of settlers, forts and battle sites. The inset shows the Battle of Lundy's Lane with the position of troops at different times and notes.
Includes 1 inset: "Sketch of an action fought on the night of the 25th July 1814 near the Falls of Niagara between a British Force under Lieut. General Drummond & an American Force under Majr. General Brown ..." with a legend of the "4th position".
Scale [1:63,360] or 1 mile to an inch.
Relief shown by shading.
Map date: 1814.
Digital reproduction of map in the Public Archives of Canada. National Map Collection. Library and Archives Canada.
Georeferenced and modified from NMC Map number 18559 by Map, Data and GIS Library, Brock University.
Name: EarlyNiagara/NiagaraPeninsula1814NMC18559
Description: Historical map showing the area from 15 Mile Creek to Chippawa Creek at the Niagara River. It shows the escarpment, wooded areas, roads, some houses and names of settlers, forts and battle sites. The inset shows the Battle of Lundy's Lane with the position of troops at different times and notes.
Includes 1 inset: "Sketch of an action fought on the night of the 25th July 1814 near the Falls of Niagara between a British Force under Lieut. General Drummond & an American Force under Majr. General Brown ..." with a legend of the "4th position".
Scale [1:63,360] or 1 mile to an inch.
Relief shown by shading.
Map date: 1814.
Digital reproduction of map in the Public Archives of Canada. National Map Collection. Library and Archives Canada.
Georeferenced and modified from NMC Map number 18559 by Map, Data and GIS Library, Brock University.
Single Fused Map Cache: false
Extent:
XMin: 626751.6738055855
YMin: 4755663.484072614
XMax: 664770.9504355855
YMax: 4800609.825847615
Spatial Reference: 26917
(26917)
Initial Extent:
XMin: 626751.6738055855
YMin: 4755663.484072614
XMax: 664770.9504355855
YMax: 4800609.825847615
Spatial Reference: 26917
(26917)
Full Extent:
XMin: 626751.6738055855
YMin: 4755663.484072614
XMax: 664770.9504355855
YMax: 4800609.825847615
Spatial Reference: 26917
(26917)
Pixel Size X: 6.920144999999996
Pixel Size Y: 6.920145000000015
Band Count: 1
Pixel Type: U16
RasterFunction Infos: {"rasterFunctionInfos": [{
"name": "None",
"description": "",
"help": ""
}]}
Mensuration Capabilities: Basic
Has Histograms: true
Has Colormap: false
Has Multi Dimensions : false
Rendering Rule:
Min Scale: 0
Max Scale: 0
Copyright Text: by G.A. Eliott.Map, Data & GIS Library, Brock University.
Service Data Type: esriImageServiceDataTypeGeneric
Min Values: 0
Max Values: 255
Mean Values: 185.71103796037
Standard Deviation Values: 32.836974987737
Object ID Field:
Fields:
None
Default Mosaic Method: Center
Allowed Mosaic Methods:
SortField:
SortValue: null
Mosaic Operator: First
Default Compression Quality: 75
Default Resampling Method: Bilinear
Max Record Count: null
Max Image Height: 4100
Max Image Width: 15000
Max Download Image Count: null
Max Mosaic Image Count: null
Allow Raster Function: true
Allow Copy: true
Allow Analysis: true
Allow Compute TiePoints: false
Supports Statistics: false
Supports Advanced Queries: false
Use StandardizedQueries: true
Raster Type Infos:
Name: Raster Dataset
Description: Supports all ArcGIS Raster Datasets
Help:
Has Raster Attribute Table: false
Edit Fields Info: null
Ownership Based AccessControl For Rasters: null
Child Resources:
Info
Histograms
Statistics
Key Properties
Legend
Raster Function Infos
Supported Operations:
Export Image
Identify
Measure
Compute Histograms
Compute Statistics Histograms
Get Samples
Compute Class Statistics
Query Boundary
Compute Pixel Location
Compute Angles
Validate
Project