View In:
ArcGIS JavaScript
ArcGIS Online Map Viewer
ArcGIS Earth
ArcMap
View Footprint In:
ArcGIS Online Map Viewer
Service Description: Historical map showing the Niagara Escarpment, counties, towns, roads, rivers swamps, Indian lands, forts, battle sites, villages, paths and houses (with names of settlers).
Relief shown by shading
Digital reproduction of map (56 x 82 cm.) in the Public Archives of Canada. National Map Collection. Library and Archives Canada.
Georeferenced and modified from NMC Map number 21587 by Map, Data and GIS Library, Brock University.
Name: EarlyNiagara/NiagaraPeninsula1815NMC21587
Description: Historical map showing the Niagara Escarpment, counties, towns, roads, rivers swamps, Indian lands, forts, battle sites, villages, paths and houses (with names of settlers).
Relief shown by shading
Digital reproduction of map (56 x 82 cm.) in the Public Archives of Canada. National Map Collection. Library and Archives Canada.
Georeferenced and modified from NMC Map number 21587 by Map, Data and GIS Library, Brock University.
Single Fused Map Cache: false
Extent:
XMin: 520325.80283225863
YMin: 4700280.359682688
XMax: 681685.3169962587
YMax: 4815765.044924688
Spatial Reference: 26917
(26917)
Initial Extent:
XMin: 520325.80283225863
YMin: 4700280.359682688
XMax: 681685.3169962587
YMax: 4815765.044924688
Spatial Reference: 26917
(26917)
Full Extent:
XMin: 520325.80283225863
YMin: 4700280.359682688
XMax: 681685.3169962587
YMax: 4815765.044924688
Spatial Reference: 26917
(26917)
Pixel Size X: 24.170089000000008
Pixel Size Y: 24.170089000000008
Band Count: 3
Pixel Type: U16
RasterFunction Infos: {"rasterFunctionInfos": [{
"name": "None",
"description": "",
"help": ""
}]}
Mensuration Capabilities: Basic
Has Histograms: true
Has Colormap: false
Has Multi Dimensions : false
Rendering Rule:
Min Scale: 0
Max Scale: 0
Copyright Text: Map, Data & GIS Library, Brock University.
Service Data Type: esriImageServiceDataTypeGeneric
Min Values: 47, 28, 31
Max Values: 235, 232, 209
Mean Values: 190.24269674827, 181.21750536928, 159.16098793903
Standard Deviation Values: 14.593469604099, 14.55028647538, 13.856430646734
Object ID Field:
Fields:
None
Default Mosaic Method: Center
Allowed Mosaic Methods:
SortField:
SortValue: null
Mosaic Operator: First
Default Compression Quality: 75
Default Resampling Method: Bilinear
Max Record Count: null
Max Image Height: 4100
Max Image Width: 15000
Max Download Image Count: null
Max Mosaic Image Count: null
Allow Raster Function: true
Allow Copy: true
Allow Analysis: true
Allow Compute TiePoints: false
Supports Statistics: false
Supports Advanced Queries: false
Use StandardizedQueries: true
Raster Type Infos:
Name: Raster Dataset
Description: Supports all ArcGIS Raster Datasets
Help:
Has Raster Attribute Table: false
Edit Fields Info: null
Ownership Based AccessControl For Rasters: null
Child Resources:
Info
Histograms
Statistics
Key Properties
Legend
Raster Function Infos
Supported Operations:
Export Image
Identify
Measure
Compute Histograms
Compute Statistics Histograms
Get Samples
Compute Class Statistics
Query Boundary
Compute Pixel Location
Compute Angles
Validate
Project