View In:
ArcGIS JavaScript
ArcGIS Online Map Viewer
ArcGIS Earth
ArcMap
View Footprint In:
ArcGIS Online Map Viewer
Service Description: Historical map showing the proposed fortress at Short Hills, boundaries, hydrological features, Indian lands, towns, route of the 1st Welland Canal before extension to Gravelly Bay, part of Feeder Canal before its completion, and some other proposed routes for canals to Lake Ontario.
The sketch is of the Niagara Peninsula. It depicts the site for a new military establishment near ‘Short Hills' on top of the escarpment in Pelham Twp.
"BB53" - in top right margin.
Scale [ca. 1:126,600]
Map date: 1827
Relief shown by hachures.
Digital reproduction of map (53 x 74 cm.) in the Public Archives of Canada. National Map Collection. Library and Archives Canada.
Georeferenced and modified from NMC Map number 21588 by Map, Data and GIS Library, Brock University.
Name: EarlyNiagara/NiagaraPeninsula1827NMC21588
Description: Historical map showing the proposed fortress at Short Hills, boundaries, hydrological features, Indian lands, towns, route of the 1st Welland Canal before extension to Gravelly Bay, part of Feeder Canal before its completion, and some other proposed routes for canals to Lake Ontario.
The sketch is of the Niagara Peninsula. It depicts the site for a new military establishment near ‘Short Hills' on top of the escarpment in Pelham Twp.
"BB53" - in top right margin.
Scale [ca. 1:126,600]
Map date: 1827
Relief shown by hachures.
Digital reproduction of map (53 x 74 cm.) in the Public Archives of Canada. National Map Collection. Library and Archives Canada.
Georeferenced and modified from NMC Map number 21588 by Map, Data and GIS Library, Brock University.
Single Fused Map Cache: false
Extent:
XMin: 578248.6323774664
YMin: 4736034.948351131
XMax: 677658.4541194665
YMax: 4807516.967930131
Spatial Reference: 26917
(26917)
Initial Extent:
XMin: 578248.6323774664
YMin: 4736034.948351131
XMax: 677658.4541194665
YMax: 4807516.967930131
Spatial Reference: 26917
(26917)
Full Extent:
XMin: 578248.6323774664
YMin: 4736034.948351131
XMax: 677658.4541194665
YMax: 4807516.967930131
Spatial Reference: 26917
(26917)
Pixel Size X: 12.179591000000007
Pixel Size Y: 12.179590999999972
Band Count: 1
Pixel Type: U16
RasterFunction Infos: {"rasterFunctionInfos": [{
"name": "None",
"description": "",
"help": ""
}]}
Mensuration Capabilities: Basic
Has Histograms: true
Has Colormap: false
Has Multi Dimensions : false
Rendering Rule:
Min Scale: 0
Max Scale: 0
Copyright Text: ["signed"]
Service Data Type: esriImageServiceDataTypeGeneric
Min Values: 8
Max Values: 255
Mean Values: 175.68439199341
Standard Deviation Values: 39.2160786503
Object ID Field:
Fields:
None
Default Mosaic Method: Center
Allowed Mosaic Methods:
SortField:
SortValue: null
Mosaic Operator: First
Default Compression Quality: 75
Default Resampling Method: Bilinear
Max Record Count: null
Max Image Height: 4100
Max Image Width: 15000
Max Download Image Count: null
Max Mosaic Image Count: null
Allow Raster Function: true
Allow Copy: true
Allow Analysis: true
Allow Compute TiePoints: false
Supports Statistics: false
Supports Advanced Queries: false
Use StandardizedQueries: true
Raster Type Infos:
Name: Raster Dataset
Description: Supports all ArcGIS Raster Datasets
Help:
Has Raster Attribute Table: false
Edit Fields Info: null
Ownership Based AccessControl For Rasters: null
Child Resources:
Info
Histograms
Statistics
Key Properties
Legend
Raster Function Infos
Supported Operations:
Export Image
Identify
Measure
Compute Histograms
Compute Statistics Histograms
Get Samples
Compute Class Statistics
Query Boundary
Compute Pixel Location
Compute Angles
Validate
Project