View In:
ArcGIS JavaScript
ArcGIS Online Map Viewer
ArcGIS Earth
ArcMap
View Footprint In:
ArcGIS Online Map Viewer
Service Description: Historical map showing a proposed line for a canal from the Town of Niagara at the mouth of the Niagara River, to intersect the First Welland Canal at Thorold.
To accompany a Report by Thos. Roy. Jan[uar]y 6th, 1837.
Digital reproduction of map (30 1/4 x 52 1/2 in.) in the Public Archives of Canada. National Map Collection. Library and Archives Canada.
Relief shown by hachures
Georeferenced and modified from NMC Map number 11293 by Map, Data and GIS Library, Brock University.
Name: EarlyNiagara/NiagaraPeninsula1837NMC11293
Description: Historical map showing a proposed line for a canal from the Town of Niagara at the mouth of the Niagara River, to intersect the First Welland Canal at Thorold.
To accompany a Report by Thos. Roy. Jan[uar]y 6th, 1837.
Digital reproduction of map (30 1/4 x 52 1/2 in.) in the Public Archives of Canada. National Map Collection. Library and Archives Canada.
Relief shown by hachures
Georeferenced and modified from NMC Map number 11293 by Map, Data and GIS Library, Brock University.
Single Fused Map Cache: false
Extent:
XMin: -8851582.650032315
YMin: 5322066.752784003
XMax: -8793288.551664315
YMax: 5359142.050704002
Spatial Reference: 102100
(3857)
Initial Extent:
XMin: -8851582.650032315
YMin: 5322066.752784003
XMax: -8793288.551664315
YMax: 5359142.050704002
Spatial Reference: 102100
(3857)
Full Extent:
XMin: -8851582.650032315
YMin: 5322066.752784003
XMax: -8793288.551664315
YMax: 5359142.050704002
Spatial Reference: 102100
(3857)
Pixel Size X: 10.473248000000043
Pixel Size Y: 10.473247999999947
Band Count: 3
Pixel Type: U16
RasterFunction Infos: {"rasterFunctionInfos": [{
"name": "None",
"description": "",
"help": ""
}]}
Mensuration Capabilities: Basic
Has Histograms: true
Has Colormap: false
Has Multi Dimensions : false
Rendering Rule:
Min Scale: 0
Max Scale: 0
Copyright Text: Map, Data & GIS Library, Brock University.
Service Data Type: esriImageServiceDataTypeGeneric
Min Values: 0, 0, 0
Max Values: 246, 246, 245
Mean Values: 214.62854307723, 187.90626799894, 135.35055400485
Standard Deviation Values: 32.6903672478, 31.60510583773, 26.892478264279
Object ID Field:
Fields:
None
Default Mosaic Method: Center
Allowed Mosaic Methods:
SortField:
SortValue: null
Mosaic Operator: First
Default Compression Quality: 75
Default Resampling Method: Bilinear
Max Record Count: null
Max Image Height: 4100
Max Image Width: 15000
Max Download Image Count: null
Max Mosaic Image Count: null
Allow Raster Function: true
Allow Copy: true
Allow Analysis: true
Allow Compute TiePoints: false
Supports Statistics: false
Supports Advanced Queries: false
Use StandardizedQueries: true
Raster Type Infos:
Name: Raster Dataset
Description: Supports all ArcGIS Raster Datasets
Help:
Has Raster Attribute Table: false
Edit Fields Info: null
Ownership Based AccessControl For Rasters: null
Child Resources:
Info
Histograms
Statistics
Key Properties
Legend
Raster Function Infos
Supported Operations:
Export Image
Identify
Measure
Compute Histograms
Compute Statistics Histograms
Get Samples
Compute Class Statistics
Query Boundary
Compute Pixel Location
Compute Angles
Validate
Project