View In:
ArcGIS JavaScript
ArcGIS Online Map Viewer
ArcGIS Earth
ArcMap
View Footprint In:
ArcGIS Online Map Viewer
Service Description: Historical map showing route of the First Welland Canal complete with feeder and southern extension to Port Colborne, township boundaries, major roads, indian lands, rivers, creeks, settlements.
Digital reproduction of map from fiche from the National Map Collection. Library and Archives Canada.
Relief shown by hachures.
Georeferenced and modified from NMC Map number 29139 by Map, Data and GIS Library, Brock University.
Name: EarlyNiagara/NiagaraPeninsula1840NMC29139
Description: Historical map showing route of the First Welland Canal complete with feeder and southern extension to Port Colborne, township boundaries, major roads, indian lands, rivers, creeks, settlements.
Digital reproduction of map from fiche from the National Map Collection. Library and Archives Canada.
Relief shown by hachures.
Georeferenced and modified from NMC Map number 29139 by Map, Data and GIS Library, Brock University.
Single Fused Map Cache: false
Extent:
XMin: 606631.2246965934
YMin: 4743309.871505397
XMax: 677165.5436925933
YMax: 4793527.033046397
Spatial Reference: 26917
(26917)
Initial Extent:
XMin: 606631.2246965934
YMin: 4743309.871505397
XMax: 677165.5436925933
YMax: 4793527.033046397
Spatial Reference: 26917
(26917)
Full Extent:
XMin: 606631.2246965934
YMin: 4743309.871505397
XMax: 677165.5436925933
YMax: 4793527.033046397
Spatial Reference: 26917
(26917)
Pixel Size X: 9.516232999999998
Pixel Size Y: 9.516233000000001
Band Count: 1
Pixel Type: U16
RasterFunction Infos: {"rasterFunctionInfos": [{
"name": "None",
"description": "",
"help": ""
}]}
Mensuration Capabilities: Basic
Has Histograms: false
Has Colormap: false
Has Multi Dimensions : false
Rendering Rule:
Min Scale: 0
Max Scale: 0
Copyright Text: Map, Data & GIS Library, Brock University.
Service Data Type: esriImageServiceDataTypeGeneric
Min Values: N/A
Max Values: N/A
Mean Values: N/A
Standard Deviation Values: N/A
Object ID Field:
Fields:
None
Default Mosaic Method: Center
Allowed Mosaic Methods:
SortField:
SortValue: null
Mosaic Operator: First
Default Compression Quality: 75
Default Resampling Method: Bilinear
Max Record Count: null
Max Image Height: 4100
Max Image Width: 15000
Max Download Image Count: null
Max Mosaic Image Count: null
Allow Raster Function: true
Allow Copy: true
Allow Analysis: true
Allow Compute TiePoints: false
Supports Statistics: false
Supports Advanced Queries: false
Use StandardizedQueries: true
Raster Type Infos:
Name: Raster Dataset
Description: Supports all ArcGIS Raster Datasets
Help:
Has Raster Attribute Table: false
Edit Fields Info: null
Ownership Based AccessControl For Rasters: null
Child Resources:
Info
Statistics
Key Properties
Legend
Raster Function Infos
Supported Operations:
Export Image
Identify
Measure
Compute Histograms
Compute Statistics Histograms
Get Samples
Compute Class Statistics
Query Boundary
Compute Pixel Location
Compute Angles
Validate
Project