View In:
ArcGIS JavaScript
ArcGIS Online Map Viewer
ArcGIS Earth
ArcMap
View Footprint In:
ArcGIS Online Map Viewer
Service Description: Historical map showing boundaries, populated places, major roads, rivers, line of 1st Welland Canal, location of indians.
Digital reproduction from the map in the Public Archives of Canada. National Map Collection. Library and Archives Canada.
Georeferenced and modified from NMC Map number 72397 by Map, Data and GIS Library, Brock University.
Name: EarlyNiagara/NiagaraPeninsula1843NMC72397
Description: Historical map showing boundaries, populated places, major roads, rivers, line of 1st Welland Canal, location of indians.
Digital reproduction from the map in the Public Archives of Canada. National Map Collection. Library and Archives Canada.
Georeferenced and modified from NMC Map number 72397 by Map, Data and GIS Library, Brock University.
Single Fused Map Cache: false
Extent:
XMin: 537565.9423632941
YMin: 4726747.384779735
XMax: 673451.7045632941
YMax: 4821217.893379735
Spatial Reference: 26717
(26717)
Initial Extent:
XMin: 537565.9423632941
YMin: 4726747.384779735
XMax: 673451.7045632941
YMax: 4821217.893379735
Spatial Reference: 26717
(26717)
Full Extent:
XMin: 537565.9423632941
YMin: 4726747.384779735
XMax: 673451.7045632941
YMax: 4821217.893379735
Spatial Reference: 26717
(26717)
Pixel Size X: 32.1547
Pixel Size Y: 32.1547000000001
Band Count: 1
Pixel Type: U16
RasterFunction Infos: {"rasterFunctionInfos": [{
"name": "None",
"description": "",
"help": ""
}]}
Mensuration Capabilities: Basic
Has Histograms: true
Has Colormap: false
Has Multi Dimensions : false
Rendering Rule:
Min Scale: 0
Max Scale: 0
Copyright Text: Map, Data & GIS Library, Brock University.
Service Data Type: esriImageServiceDataTypeGeneric
Min Values: 0
Max Values: 253
Mean Values: 170.24723096202
Standard Deviation Values: 40.66347678382
Object ID Field:
Fields:
None
Default Mosaic Method: Center
Allowed Mosaic Methods:
SortField:
SortValue: null
Mosaic Operator: First
Default Compression Quality: 75
Default Resampling Method: Bilinear
Max Record Count: null
Max Image Height: 4100
Max Image Width: 15000
Max Download Image Count: null
Max Mosaic Image Count: null
Allow Raster Function: true
Allow Copy: true
Allow Analysis: true
Allow Compute TiePoints: false
Supports Statistics: false
Supports Advanced Queries: false
Use StandardizedQueries: true
Raster Type Infos:
Name: Raster Dataset
Description: Supports all ArcGIS Raster Datasets
Help:
Has Raster Attribute Table: false
Edit Fields Info: null
Ownership Based AccessControl For Rasters: null
Child Resources:
Info
Histograms
Statistics
Key Properties
Legend
Raster Function Infos
Supported Operations:
Export Image
Identify
Measure
Compute Histograms
Compute Statistics Histograms
Get Samples
Compute Class Statistics
Query Boundary
Compute Pixel Location
Compute Angles
Validate
Project