View In:
ArcGIS JavaScript
ArcGIS Online Map Viewer
ArcGIS Earth
ArcMap
View Footprint In:
ArcGIS Online Map Viewer
Service Description: Historical map showing lot and concession numbers, boundary and electoral district.
Scale 1:250,000
Map date: 1905
Digital reproduction of map (69 x 52 cm.) in the Brock University Map, Data & GIS Library collection.
Georeferenced and modified from Brock call# G 3462 N53 1905 C35 by Map, Data and GIS Library, Brock University.
Name: EarlyNiagara/NiagaraPeninsula1905
Description: Historical map showing lot and concession numbers, boundary and electoral district.
Scale 1:250,000
Map date: 1905
Digital reproduction of map (69 x 52 cm.) in the Brock University Map, Data & GIS Library collection.
Georeferenced and modified from Brock call# G 3462 N53 1905 C35 by Map, Data and GIS Library, Brock University.
Single Fused Map Cache: false
Extent:
XMin: -8918258.585211705
YMin: 5119158.769129544
XMax: -8725713.038721705
YMax: 5411436.941249544
Spatial Reference: 102100
(3857)
Initial Extent:
XMin: -8918258.585211705
YMin: 5119158.769129544
XMax: -8725713.038721705
YMax: 5411436.941249544
Spatial Reference: 102100
(3857)
Full Extent:
XMin: -8918258.585211705
YMin: 5119158.769129544
XMax: -8725713.038721705
YMax: 5411436.941249544
Spatial Reference: 102100
(3857)
Pixel Size X: 31.741765000000093
Pixel Size Y: 31.741765000000026
Band Count: 3
Pixel Type: U16
RasterFunction Infos: {"rasterFunctionInfos": [{
"name": "None",
"description": "",
"help": ""
}]}
Mensuration Capabilities: Basic
Has Histograms: true
Has Colormap: false
Has Multi Dimensions : false
Rendering Rule:
Min Scale: 0
Max Scale: 0
Copyright Text: Canada. Dept. of the Interior.
James White, geographer
Map, Data & GIS Library, Brock University.
Service Data Type: esriImageServiceDataTypeGeneric
Min Values: 0, 0, 0
Max Values: 255, 255, 255
Mean Values: 192.43454736363, 176.25248349722, 144.01637740392
Standard Deviation Values: 50.926815795709, 45.903344834415, 39.930959631401
Object ID Field:
Fields:
None
Default Mosaic Method: Center
Allowed Mosaic Methods:
SortField:
SortValue: null
Mosaic Operator: First
Default Compression Quality: 75
Default Resampling Method: Bilinear
Max Record Count: null
Max Image Height: 4100
Max Image Width: 15000
Max Download Image Count: null
Max Mosaic Image Count: null
Allow Raster Function: true
Allow Copy: true
Allow Analysis: true
Allow Compute TiePoints: false
Supports Statistics: false
Supports Advanced Queries: false
Use StandardizedQueries: true
Raster Type Infos:
Name: Raster Dataset
Description: Supports all ArcGIS Raster Datasets
Help:
Has Raster Attribute Table: false
Edit Fields Info: null
Ownership Based AccessControl For Rasters: null
Child Resources:
Info
Histograms
Statistics
Key Properties
Legend
Raster Function Infos
Supported Operations:
Export Image
Identify
Measure
Compute Histograms
Compute Statistics Histograms
Get Samples
Compute Class Statistics
Query Boundary
Compute Pixel Location
Compute Angles
Validate
Project