View In:
ArcGIS JavaScript
ArcGIS Online Map Viewer
ArcGIS Earth
ArcMap
View Footprint In:
ArcGIS Online Map Viewer
Service Description: Historical map showing physical, political and cultural features, legend.
Scale 1:126,720
Relief shown by contours.
Map date: 1908
Digital reproduction of map (60 x 84 cm.) in the Brock University Map, Data & GIS Library collection.
Georeferenced and modified from Brock call# G 3462 N53 1908 O55 by Map, Data and GIS Library, Brock University.
Name: EarlyNiagara/NiagaraPeninsula1908
Description: Historical map showing physical, political and cultural features, legend.
Scale 1:126,720
Relief shown by contours.
Map date: 1908
Digital reproduction of map (60 x 84 cm.) in the Brock University Map, Data & GIS Library collection.
Georeferenced and modified from Brock call# G 3462 N53 1908 O55 by Map, Data and GIS Library, Brock University.
Single Fused Map Cache: false
Extent:
XMin: -8916760.494416928
YMin: 5253814.518952733
XMax: -8774962.188109929
YMax: 5360690.440965733
Spatial Reference: 102100
(3857)
Initial Extent:
XMin: -8916760.494416928
YMin: 5253814.518952733
XMax: -8774962.188109929
YMax: 5360690.440965733
Spatial Reference: 102100
(3857)
Full Extent:
XMin: -8916760.494416928
YMin: 5253814.518952733
XMax: -8774962.188109929
YMax: 5360690.440965733
Spatial Reference: 102100
(3857)
Pixel Size X: 7.296778999999957
Pixel Size Y: 7.296778999999976
Band Count: 3
Pixel Type: U16
RasterFunction Infos: {"rasterFunctionInfos": [{
"name": "None",
"description": "",
"help": ""
}]}
Mensuration Capabilities: Basic
Has Histograms: false
Has Colormap: false
Has Multi Dimensions : false
Rendering Rule:
Min Scale: 0
Max Scale: 0
Copyright Text: Published: Great Britain War Office, 1908
Map, Data & GIS Library, Brock University.
Service Data Type: esriImageServiceDataTypeGeneric
Min Values: N/A
Max Values: N/A
Mean Values: N/A
Standard Deviation Values: N/A
Object ID Field:
Fields:
None
Default Mosaic Method: Center
Allowed Mosaic Methods:
SortField:
SortValue: null
Mosaic Operator: First
Default Compression Quality: 75
Default Resampling Method: Bilinear
Max Record Count: null
Max Image Height: 4100
Max Image Width: 15000
Max Download Image Count: null
Max Mosaic Image Count: null
Allow Raster Function: true
Allow Copy: true
Allow Analysis: true
Allow Compute TiePoints: false
Supports Statistics: false
Supports Advanced Queries: false
Use StandardizedQueries: true
Raster Type Infos:
Name: Raster Dataset
Description: Supports all ArcGIS Raster Datasets
Help:
Has Raster Attribute Table: false
Edit Fields Info: null
Ownership Based AccessControl For Rasters: null
Child Resources:
Info
Statistics
Key Properties
Legend
Raster Function Infos
Supported Operations:
Export Image
Identify
Measure
Compute Histograms
Compute Statistics Histograms
Get Samples
Compute Class Statistics
Query Boundary
Compute Pixel Location
Compute Angles
Validate
Project