View In:
ArcGIS JavaScript
ArcGIS Online Map Viewer
ArcGIS Earth
ArcMap
View Footprint In:
ArcGIS Online Map Viewer
Service Description: Historical map showing cities and towns, road features, schools, concession and lot numbers, legend.
Scale 1 1/4 miles to 1 inch.
Map date: [1929]
Digital reproduction of map (65 x 101 cm.) in the Brock University Map, Data & GIS Library collection.
Georeferenced and modified from Brock call# G 3462 N53 1929 M35 by Map, Data and GIS Library, Brock University.
Name: EarlyNiagara/NiagaraPeninsula1910
Description: Historical map showing cities and towns, road features, schools, concession and lot numbers, legend.
Scale 1 1/4 miles to 1 inch.
Map date: [1929]
Digital reproduction of map (65 x 101 cm.) in the Brock University Map, Data & GIS Library collection.
Georeferenced and modified from Brock call# G 3462 N53 1929 M35 by Map, Data and GIS Library, Brock University.
Single Fused Map Cache: false
Extent:
XMin: 589135.7217727302
YMin: 4738851.247910205
XMax: 675228.4707727302
YMax: 4801064.5597102055
Spatial Reference: 26917
(26917)
Initial Extent:
XMin: 589135.7217727302
YMin: 4738851.247910205
XMax: 675228.4707727302
YMax: 4801064.5597102055
Spatial Reference: 26917
(26917)
Full Extent:
XMin: 589135.7217727302
YMin: 4738851.247910205
XMax: 675228.4707727302
YMax: 4801064.5597102055
Spatial Reference: 26917
(26917)
Pixel Size X: 3.463799999999998
Pixel Size Y: 3.463800000000014
Band Count: 3
Pixel Type: U16
RasterFunction Infos: {"rasterFunctionInfos": [{
"name": "None",
"description": "",
"help": ""
}]}
Mensuration Capabilities: Basic
Has Histograms: false
Has Colormap: false
Has Multi Dimensions : false
Rendering Rule:
Min Scale: 0
Max Scale: 0
Copyright Text: Map, Data & GIS Library, Brock University.
Service Data Type: esriImageServiceDataTypeGeneric
Min Values: N/A
Max Values: N/A
Mean Values: N/A
Standard Deviation Values: N/A
Object ID Field:
Fields:
None
Default Mosaic Method: Center
Allowed Mosaic Methods:
SortField:
SortValue: null
Mosaic Operator: First
Default Compression Quality: 75
Default Resampling Method: Bilinear
Max Record Count: null
Max Image Height: 4100
Max Image Width: 15000
Max Download Image Count: null
Max Mosaic Image Count: null
Allow Raster Function: true
Allow Copy: true
Allow Analysis: true
Allow Compute TiePoints: false
Supports Statistics: false
Supports Advanced Queries: false
Use StandardizedQueries: true
Raster Type Infos:
Name: Raster Dataset
Description: Supports all ArcGIS Raster Datasets
Help:
Has Raster Attribute Table: false
Edit Fields Info: null
Ownership Based AccessControl For Rasters: null
Child Resources:
Info
Statistics
Key Properties
Legend
Raster Function Infos
Supported Operations:
Export Image
Identify
Measure
Compute Histograms
Compute Statistics Histograms
Get Samples
Compute Class Statistics
Query Boundary
Compute Pixel Location
Compute Angles
Validate
Project