View In:
ArcGIS JavaScript
ArcGIS Online Map Viewer
ArcGIS Earth
ArcMap
View Footprint In:
ArcGIS Online Map Viewer
Service Description: Historical map showing towns, rivers, roads, indian tribal lands, "Canby Marsh".
Digital reproduction of map in the Public Archives of Canada. National Map Collection. Library and Archives Canada.
Relief shown by shading
Georeferenced and modified from NMC Map number NMC-3003 by Map, Data and GIS Library, Brock University.
Name: EarlyNiagara/NiagaraPeninsulaHall1818NMC3003
Description: Historical map showing towns, rivers, roads, indian tribal lands, "Canby Marsh".
Digital reproduction of map in the Public Archives of Canada. National Map Collection. Library and Archives Canada.
Relief shown by shading
Georeferenced and modified from NMC Map number NMC-3003 by Map, Data and GIS Library, Brock University.
Single Fused Map Cache: false
Extent:
XMin: -8935740.561228605
YMin: 5248561.022775077
XMax: -8766225.795788605
YMax: 5385640.620023077
Spatial Reference: 102100
(3857)
Initial Extent:
XMin: -8935740.561228605
YMin: 5248561.022775077
XMax: -8766225.795788605
YMax: 5385640.620023077
Spatial Reference: 102100
(3857)
Full Extent:
XMin: -8935740.561228605
YMin: 5248561.022775077
XMax: -8766225.795788605
YMax: 5385640.620023077
Spatial Reference: 102100
(3857)
Pixel Size X: 28.780096000000036
Pixel Size Y: 28.780096000000018
Band Count: 1
Pixel Type: U16
RasterFunction Infos: {"rasterFunctionInfos": [{
"name": "None",
"description": "",
"help": ""
}]}
Mensuration Capabilities: Basic
Has Histograms: true
Has Colormap: false
Has Multi Dimensions : false
Rendering Rule:
Min Scale: 0
Max Scale: 0
Copyright Text: Map, Data & GIS Library, Brock University.Engraved by Sidy. Hall.Map from Travels in Canada and the United States, in 1816 and 1817 / by Francis Hall.
Service Data Type: esriImageServiceDataTypeGeneric
Min Values: 2
Max Values: 255
Mean Values: 198.58501366122
Standard Deviation Values: 44.826489833294
Object ID Field:
Fields:
None
Default Mosaic Method: Center
Allowed Mosaic Methods:
SortField:
SortValue: null
Mosaic Operator: First
Default Compression Quality: 75
Default Resampling Method: Bilinear
Max Record Count: null
Max Image Height: 4100
Max Image Width: 15000
Max Download Image Count: null
Max Mosaic Image Count: null
Allow Raster Function: true
Allow Copy: true
Allow Analysis: true
Allow Compute TiePoints: false
Supports Statistics: false
Supports Advanced Queries: false
Use StandardizedQueries: true
Raster Type Infos:
Name: Raster Dataset
Description: Supports all ArcGIS Raster Datasets
Help:
Has Raster Attribute Table: false
Edit Fields Info: null
Ownership Based AccessControl For Rasters: null
Child Resources:
Info
Histograms
Statistics
Key Properties
Legend
Raster Function Infos
Supported Operations:
Export Image
Identify
Measure
Compute Histograms
Compute Statistics Histograms
Get Samples
Compute Class Statistics
Query Boundary
Compute Pixel Location
Compute Angles
Validate
Project