View In:
ArcGIS JavaScript
ArcGIS Online Map Viewer
ArcGIS Earth
ArcMap
View Footprint In:
ArcGIS Online Map Viewer
Service Description: Historical map showing the boundaries of Lincoln and Welland Counties, drawings of homes and buildings in border, townships, concessions, names of lot owners, list of subscribers for each town.
Compiled and drawn from actual surveys by the publishers... Geo. R. & G.M. Tremaine
Digital reproduction of map in the Public Archives of Canada. National Map Collection. Library and Archives Canada.
Georeferenced and modified from NMC Map number 19014 by Map, Data and GIS Library, Brock University.
Name: EarlyNiagara/NiagaraRegion1862NMC19014
Description: Historical map showing the boundaries of Lincoln and Welland Counties, drawings of homes and buildings in border, townships, concessions, names of lot owners, list of subscribers for each town.
Compiled and drawn from actual surveys by the publishers... Geo. R. & G.M. Tremaine
Digital reproduction of map in the Public Archives of Canada. National Map Collection. Library and Archives Canada.
Georeferenced and modified from NMC Map number 19014 by Map, Data and GIS Library, Brock University.
Single Fused Map Cache: false
Extent:
XMin: -8880266.171628637
YMin: 5279194.398424937
XMax: -8779472.039790638
YMax: 5356775.379352937
Spatial Reference: 102100
(3857)
Initial Extent:
XMin: -8880266.171628637
YMin: 5279194.398424937
XMax: -8779472.039790638
YMax: 5356775.379352937
Spatial Reference: 102100
(3857)
Full Extent:
XMin: -8880266.171628637
YMin: 5279194.398424937
XMax: -8779472.039790638
YMax: 5356775.379352937
Spatial Reference: 102100
(3857)
Pixel Size X: 7.109693999999961
Pixel Size Y: 7.1096940000000055
Band Count: 1
Pixel Type: U16
RasterFunction Infos: {"rasterFunctionInfos": [{
"name": "None",
"description": "",
"help": ""
}]}
Mensuration Capabilities: Basic
Has Histograms: true
Has Colormap: false
Has Multi Dimensions : false
Rendering Rule:
Min Scale: 0
Max Scale: 0
Copyright Text: Map, Data & GIS Library, Brock University.
Service Data Type: esriImageServiceDataTypeGeneric
Min Values: 0
Max Values: 255
Mean Values: 132.34414591824
Standard Deviation Values: 56.442200524253
Object ID Field:
Fields:
None
Default Mosaic Method: Center
Allowed Mosaic Methods:
SortField:
SortValue: null
Mosaic Operator: First
Default Compression Quality: 75
Default Resampling Method: Bilinear
Max Record Count: null
Max Image Height: 4100
Max Image Width: 15000
Max Download Image Count: null
Max Mosaic Image Count: null
Allow Raster Function: true
Allow Copy: true
Allow Analysis: true
Allow Compute TiePoints: false
Supports Statistics: false
Supports Advanced Queries: false
Use StandardizedQueries: true
Raster Type Infos:
Name: Raster Dataset
Description: Supports all ArcGIS Raster Datasets
Help:
Has Raster Attribute Table: false
Edit Fields Info: null
Ownership Based AccessControl For Rasters: null
Child Resources:
Info
Histograms
Statistics
Key Properties
Legend
Raster Function Infos
Supported Operations:
Export Image
Identify
Measure
Compute Histograms
Compute Statistics Histograms
Get Samples
Compute Class Statistics
Query Boundary
Compute Pixel Location
Compute Angles
Validate
Project