View In:
ArcGIS JavaScript
ArcGIS Online Map Viewer
ArcGIS Earth
ArcMap
View Footprint In:
ArcGIS Online Map Viewer
Service Description: Map date: 1969
Scale: 1:63,360.
Digital reproduction of map (79 x 109 cm.) in the Public Archives of Canada. National Map Collection. Library and Archives Canada.
Includes 7 insets: Niagara Falls -- Welland -- Thorold -- Grimsby -- Fort Erie -- St. Catharines -- Port Colborne.
Georeferenced and modified from map in Map, Data and GIS Library, Brock University, call number G 3463 N54 1969 R45
Name: EarlyNiagara/NiagaraRegion1969
Description: Map date: 1969
Scale: 1:63,360.
Digital reproduction of map (79 x 109 cm.) in the Public Archives of Canada. National Map Collection. Library and Archives Canada.
Includes 7 insets: Niagara Falls -- Welland -- Thorold -- Grimsby -- Fort Erie -- St. Catharines -- Port Colborne.
Georeferenced and modified from map in Map, Data and GIS Library, Brock University, call number G 3463 N54 1969 R45
Single Fused Map Cache: false
Extent:
XMin: 593953.4201319373
YMin: 4739467.002663727
XMax: 674492.8941459373
YMax: 4794352.792869727
Spatial Reference: 26917
(26917)
Initial Extent:
XMin: 593953.4201319373
YMin: 4739467.002663727
XMax: 674492.8941459373
YMax: 4794352.792869727
Spatial Reference: 26917
(26917)
Full Extent:
XMin: 593953.4201319373
YMin: 4739467.002663727
XMax: 674492.8941459373
YMax: 4794352.792869727
Spatial Reference: 26917
(26917)
Pixel Size X: 5.547942000000003
Pixel Size Y: 5.547942000000021
Band Count: 3
Pixel Type: U16
RasterFunction Infos: {"rasterFunctionInfos": [{
"name": "None",
"description": "",
"help": ""
}]}
Mensuration Capabilities: Basic
Has Histograms: true
Has Colormap: false
Has Multi Dimensions : false
Rendering Rule:
Min Scale: 0
Max Scale: 0
Copyright Text: Produced by the Regional Municipality of Niagara.
Map, Data & GIS Library, Brock University.
Service Data Type: esriImageServiceDataTypeGeneric
Min Values: 0, 0, 0
Max Values: 255, 255, 255
Mean Values: 204.6080828, 180.76993153749, 154.73774976637
Standard Deviation Values: 45.541346172438, 41.286904278247, 35.933104270315
Object ID Field:
Fields:
None
Default Mosaic Method: Center
Allowed Mosaic Methods:
SortField:
SortValue: null
Mosaic Operator: First
Default Compression Quality: 75
Default Resampling Method: Bilinear
Max Record Count: null
Max Image Height: 4100
Max Image Width: 15000
Max Download Image Count: null
Max Mosaic Image Count: null
Allow Raster Function: true
Allow Copy: true
Allow Analysis: true
Allow Compute TiePoints: false
Supports Statistics: false
Supports Advanced Queries: false
Use StandardizedQueries: true
Raster Type Infos:
Name: Raster Dataset
Description: Supports all ArcGIS Raster Datasets
Help:
Has Raster Attribute Table: false
Edit Fields Info: null
Ownership Based AccessControl For Rasters: null
Child Resources:
Info
Histograms
Statistics
Key Properties
Legend
Raster Function Infos
Supported Operations:
Export Image
Identify
Measure
Compute Histograms
Compute Statistics Histograms
Get Samples
Compute Class Statistics
Query Boundary
Compute Pixel Location
Compute Angles
Validate
Project