View In:
ArcGIS JavaScript
ArcGIS Online Map Viewer
ArcGIS Earth
ArcMap
View Footprint In:
ArcGIS Online Map Viewer
Service Description: Map of Niagara Region showing streets, railways, city limits, rivers, cemeteries, hospitals, schools. Includes business advertisements in margin. Panel title. Includes street index and parks and recreation index. Title on recto: City of St. Catharines -- Ancillary map on verso: The Regional Municipality of Niagara.
Name: EarlyNiagara/NiagaraRegion1971
Description: Map of Niagara Region showing streets, railways, city limits, rivers, cemeteries, hospitals, schools. Includes business advertisements in margin. Panel title. Includes street index and parks and recreation index. Title on recto: City of St. Catharines -- Ancillary map on verso: The Regional Municipality of Niagara.
Single Fused Map Cache: false
Extent:
XMin: 583462.8242014732
YMin: 4720950.923317927
XMax: 711672.1210353982
YMax: 4802545.121581273
Spatial Reference: 26917
(26917)
Initial Extent:
XMin: 583462.8242014732
YMin: 4720950.923317927
XMax: 711672.1210353982
YMax: 4802545.121581273
Spatial Reference: 26917
(26917)
Full Extent:
XMin: 583462.8242014732
YMin: 4720950.923317927
XMax: 711672.1210353982
YMax: 4802545.121581273
Spatial Reference: 26917
(26917)
Pixel Size X: 16.026162104240633
Pixel Size Y: 15.646059110900522
Band Count: 3
Pixel Type: U8
RasterFunction Infos: {"rasterFunctionInfos": [{
"name": "None",
"description": "",
"help": ""
}]}
Mensuration Capabilities: Basic
Has Histograms: true
Has Colormap: false
Has Multi Dimensions : false
Rendering Rule:
Min Scale: 0
Max Scale: 0
Copyright Text: Brock University Map, Data & GIS Library
Service Data Type: esriImageServiceDataTypeRGB
Min Values: 0, 0, 0
Max Values: 255, 255, 255
Mean Values: 196.35194700377, 186.9111548418, 179.53620043143
Standard Deviation Values: 84.377004482995, 90.041333700698, 90.936878024881
Object ID Field:
Fields:
None
Default Mosaic Method: Center
Allowed Mosaic Methods:
SortField:
SortValue: null
Mosaic Operator: First
Default Compression Quality: 75
Default Resampling Method: Bilinear
Max Record Count: null
Max Image Height: 4100
Max Image Width: 15000
Max Download Image Count: null
Max Mosaic Image Count: null
Allow Raster Function: true
Allow Copy: true
Allow Analysis: true
Allow Compute TiePoints: false
Supports Statistics: false
Supports Advanced Queries: false
Use StandardizedQueries: true
Raster Type Infos:
Name: Raster Dataset
Description: Supports all ArcGIS Raster Datasets
Help:
Has Raster Attribute Table: false
Edit Fields Info: null
Ownership Based AccessControl For Rasters: null
Child Resources:
Info
Histograms
Statistics
Key Properties
Legend
Raster Function Infos
Supported Operations:
Export Image
Identify
Measure
Compute Histograms
Compute Statistics Histograms
Get Samples
Compute Class Statistics
Query Boundary
Compute Pixel Location
Compute Angles
Validate
Project