View In:
ArcGIS JavaScript
ArcGIS Online Map Viewer
ArcGIS Earth
ArcMap
View Footprint In:
ArcGIS Online Map Viewer
Service Description: Historical map showing Fort Niagara, Fort Schlosser, the line of the escarpment and hydrological features.
"Quebec 6th Decr. 1788."
Relief shown by shading.
Scale [ca. 1:31,680]. 1 in to 1/2 mi.
Map date: 1788
Digital reproduction of map (32 x 97 cm.) in the Public Archives of Canada. National Map Collection. Library and Archives Canada.
Georeferenced and modified from NMC Map number 26862 by Map, Data and GIS Library, Brock University.
Name: EarlyNiagara/NiagaraRiver1788NMC26862
Description: Historical map showing Fort Niagara, Fort Schlosser, the line of the escarpment and hydrological features.
"Quebec 6th Decr. 1788."
Relief shown by shading.
Scale [ca. 1:31,680]. 1 in to 1/2 mi.
Map date: 1788
Digital reproduction of map (32 x 97 cm.) in the Public Archives of Canada. National Map Collection. Library and Archives Canada.
Georeferenced and modified from NMC Map number 26862 by Map, Data and GIS Library, Brock University.
Single Fused Map Cache: false
Extent:
XMin: 652658.4746076113
YMin: 4765391.046937181
XMax: 665479.8963956113
YMax: 4796667.2684171805
Spatial Reference: 26917
(26917)
Initial Extent:
XMin: 652658.4746076113
YMin: 4765391.046937181
XMax: 665479.8963956113
YMax: 4796667.2684171805
Spatial Reference: 26917
(26917)
Full Extent:
XMin: 652658.4746076113
YMin: 4765391.046937181
XMax: 665479.8963956113
YMax: 4796667.2684171805
Spatial Reference: 26917
(26917)
Pixel Size X: 9.145094000000025
Pixel Size Y: 9.14509399999995
Band Count: 1
Pixel Type: U16
RasterFunction Infos: {"rasterFunctionInfos": [{
"name": "None",
"description": "",
"help": ""
}]}
Mensuration Capabilities: Basic
Has Histograms: true
Has Colormap: false
Has Multi Dimensions : false
Rendering Rule:
Min Scale: 0
Max Scale: 0
Copyright Text: ["signed"]
Service Data Type: esriImageServiceDataTypeGeneric
Min Values: 0
Max Values: 255
Mean Values: 190.52209003182
Standard Deviation Values: 31.635661551291
Object ID Field:
Fields:
None
Default Mosaic Method: Center
Allowed Mosaic Methods:
SortField:
SortValue: null
Mosaic Operator: First
Default Compression Quality: 75
Default Resampling Method: Bilinear
Max Record Count: null
Max Image Height: 4100
Max Image Width: 15000
Max Download Image Count: null
Max Mosaic Image Count: null
Allow Raster Function: true
Allow Copy: true
Allow Analysis: true
Allow Compute TiePoints: false
Supports Statistics: false
Supports Advanced Queries: false
Use StandardizedQueries: true
Raster Type Infos:
Name: Raster Dataset
Description: Supports all ArcGIS Raster Datasets
Help:
Has Raster Attribute Table: false
Edit Fields Info: null
Ownership Based AccessControl For Rasters: null
Child Resources:
Info
Histograms
Statistics
Key Properties
Legend
Raster Function Infos
Supported Operations:
Export Image
Identify
Measure
Compute Histograms
Compute Statistics Histograms
Get Samples
Compute Class Statistics
Query Boundary
Compute Pixel Location
Compute Angles
Validate
Project