View In:
ArcGIS JavaScript
ArcGIS Online Map Viewer
ArcGIS Earth
ArcMap
View Footprint In:
ArcGIS Online Map Viewer
Service Description: Historical map showing military forts, landings, portage roads on both sides of Niagara River.
Scale [ca. 1:63,360]
Relief shown by hachures.
Map published: Montreal, Qu. : Engineers Office
Map date: 1814.
Digital reproduction of map (26 1/4 x 77 in.) in the Public Archives of Canada. National Map Collection. Library and Archives Canada.
Georeferenced and modified from NMC Map number 18466 by Map, Data and GIS Library, Brock University.
Name: EarlyNiagara/NiagaraRiver1814NMC18466
Description: Historical map showing military forts, landings, portage roads on both sides of Niagara River.
Scale [ca. 1:63,360]
Relief shown by hachures.
Map published: Montreal, Qu. : Engineers Office
Map date: 1814.
Digital reproduction of map (26 1/4 x 77 in.) in the Public Archives of Canada. National Map Collection. Library and Archives Canada.
Georeferenced and modified from NMC Map number 18466 by Map, Data and GIS Library, Brock University.
Single Fused Map Cache: false
Extent:
XMin: 649734.2548792416
YMin: 4745162.456294167
XMax: 685179.7133392416
YMax: 4797310.448819167
Spatial Reference: 26917
(26917)
Initial Extent:
XMin: 649734.2548792416
YMin: 4745162.456294167
XMax: 685179.7133392416
YMax: 4797310.448819167
Spatial Reference: 26917
(26917)
Full Extent:
XMin: 649734.2548792416
YMin: 4745162.456294167
XMax: 685179.7133392416
YMax: 4797310.448819167
Spatial Reference: 26917
(26917)
Pixel Size X: 8.431364999999998
Pixel Size Y: 8.43136500000002
Band Count: 1
Pixel Type: U16
RasterFunction Infos: {"rasterFunctionInfos": [{
"name": "None",
"description": "",
"help": ""
}]}
Mensuration Capabilities: Basic
Has Histograms: true
Has Colormap: false
Has Multi Dimensions : false
Rendering Rule:
Min Scale: 0
Max Scale: 0
Copyright Text: copied by George Williams.Map, Data & GIS Library, Brock University.
Service Data Type: esriImageServiceDataTypeGeneric
Min Values: 16
Max Values: 255
Mean Values: 159.41087067282
Standard Deviation Values: 38.857541521597
Object ID Field:
Fields:
None
Default Mosaic Method: Center
Allowed Mosaic Methods:
SortField:
SortValue: null
Mosaic Operator: First
Default Compression Quality: 75
Default Resampling Method: Bilinear
Max Record Count: null
Max Image Height: 4100
Max Image Width: 15000
Max Download Image Count: null
Max Mosaic Image Count: null
Allow Raster Function: true
Allow Copy: true
Allow Analysis: true
Allow Compute TiePoints: false
Supports Statistics: false
Supports Advanced Queries: false
Use StandardizedQueries: true
Raster Type Infos:
Name: Raster Dataset
Description: Supports all ArcGIS Raster Datasets
Help:
Has Raster Attribute Table: false
Edit Fields Info: null
Ownership Based AccessControl For Rasters: null
Child Resources:
Info
Histograms
Statistics
Key Properties
Legend
Raster Function Infos
Supported Operations:
Export Image
Identify
Measure
Compute Histograms
Compute Statistics Histograms
Get Samples
Compute Class Statistics
Query Boundary
Compute Pixel Location
Compute Angles
Validate
Project