View In:
ArcGIS JavaScript
ArcGIS Online Map Viewer
ArcGIS Earth
ArcMap
View Footprint In:
ArcGIS Online Map Viewer
Service Description: Historical map showing the land on both sides of the Niagara River from Lake Erie to Lake Ontario. Communities, forts, buildings, and roads are illustrated. Inset maps of Fort Erie and Chippawa depict: the military buildings, fortifications, and size of barracks. It was included in Sir George Prevost no 170 to Earl of Bathurst 12 July 1814 recording the loss of Fort Erie and defeat at Chippawa.
"QS 76" written in bottom right corner.
Relief shown by hachures.
Digital reproduction of map in the Public Archives of Canada. National Map Collection. Library and Archives Canada.
Georeferenced and modified from NMC Map number 3170 by Map, Data and GIS Library, Brock University.
Name: EarlyNiagara/NiagaraRiver1814NMC3170
Description: Historical map showing the land on both sides of the Niagara River from Lake Erie to Lake Ontario. Communities, forts, buildings, and roads are illustrated. Inset maps of Fort Erie and Chippawa depict: the military buildings, fortifications, and size of barracks. It was included in Sir George Prevost no 170 to Earl of Bathurst 12 July 1814 recording the loss of Fort Erie and defeat at Chippawa.
"QS 76" written in bottom right corner.
Relief shown by hachures.
Digital reproduction of map in the Public Archives of Canada. National Map Collection. Library and Archives Canada.
Georeferenced and modified from NMC Map number 3170 by Map, Data and GIS Library, Brock University.
Single Fused Map Cache: false
Extent:
XMin: 622915.6310957962
YMin: 4733488.019496656
XMax: 686344.5283037962
YMax: 4798329.043140656
Spatial Reference: 26917
(26917)
Initial Extent:
XMin: 622915.6310957962
YMin: 4733488.019496656
XMax: 686344.5283037962
YMax: 4798329.043140656
Spatial Reference: 26917
(26917)
Full Extent:
XMin: 622915.6310957962
YMin: 4733488.019496656
XMax: 686344.5283037962
YMax: 4798329.043140656
Spatial Reference: 26917
(26917)
Pixel Size X: 10.617491999999991
Pixel Size Y: 10.617492000000048
Band Count: 1
Pixel Type: U16
RasterFunction Infos: {"rasterFunctionInfos": [{
"name": "None",
"description": "",
"help": ""
}]}
Mensuration Capabilities: Basic
Has Histograms: true
Has Colormap: false
Has Multi Dimensions : false
Rendering Rule:
Min Scale: 0
Max Scale: 0
Copyright Text: Map, Data & GIS Library, Brock University.
Service Data Type: esriImageServiceDataTypeGeneric
Min Values: 9
Max Values: 255
Mean Values: 199.53817420575
Standard Deviation Values: 29.089430094345
Object ID Field:
Fields:
None
Default Mosaic Method: Center
Allowed Mosaic Methods:
SortField:
SortValue: null
Mosaic Operator: First
Default Compression Quality: 75
Default Resampling Method: Bilinear
Max Record Count: null
Max Image Height: 4100
Max Image Width: 15000
Max Download Image Count: null
Max Mosaic Image Count: null
Allow Raster Function: true
Allow Copy: true
Allow Analysis: true
Allow Compute TiePoints: false
Supports Statistics: false
Supports Advanced Queries: false
Use StandardizedQueries: true
Raster Type Infos:
Name: Raster Dataset
Description: Supports all ArcGIS Raster Datasets
Help:
Has Raster Attribute Table: false
Edit Fields Info: null
Ownership Based AccessControl For Rasters: null
Child Resources:
Info
Histograms
Statistics
Key Properties
Legend
Raster Function Infos
Supported Operations:
Export Image
Identify
Measure
Compute Histograms
Compute Statistics Histograms
Get Samples
Compute Class Statistics
Query Boundary
Compute Pixel Location
Compute Angles
Validate
Project