View In:
ArcGIS JavaScript
ArcGIS Online Map Viewer
ArcGIS Earth
ArcMap
View Footprint In:
ArcGIS Online Map Viewer
Service Description: Historical map of the Niagara River from Lake Ontario to Lake Erie. Shows forts, villages, towns, buildings, islands.
Digital reproduction of map (22 1/2 x 39 1/4 in.) in the Public Archives of Canada. National Map Collection. Library and Archives Canada.
Relief shown by shading and hachures. Depths shown by soundings throughout the river.
Georeferenced and modified from NMC Map number 21729 by Map, Data and GIS Library, Brock University.
Name: EarlyNiagara/NiagaraRiver1817NMC21729
Description: Historical map of the Niagara River from Lake Ontario to Lake Erie. Shows forts, villages, towns, buildings, islands.
Digital reproduction of map (22 1/2 x 39 1/4 in.) in the Public Archives of Canada. National Map Collection. Library and Archives Canada.
Relief shown by shading and hachures. Depths shown by soundings throughout the river.
Georeferenced and modified from NMC Map number 21729 by Map, Data and GIS Library, Brock University.
Single Fused Map Cache: false
Extent:
XMin: 638775.6787272673
YMin: 4745752.3993454315
XMax: 688346.7225222674
YMax: 4800964.494766432
Spatial Reference: 26917
(26917)
Initial Extent:
XMin: 638775.6787272673
YMin: 4745752.3993454315
XMax: 688346.7225222674
YMax: 4800964.494766432
Spatial Reference: 26917
(26917)
Full Extent:
XMin: 638775.6787272673
YMin: 4745752.3993454315
XMax: 688346.7225222674
YMax: 4800964.494766432
Spatial Reference: 26917
(26917)
Pixel Size X: 12.105261000000015
Pixel Size Y: 12.105261000000084
Band Count: 1
Pixel Type: U16
RasterFunction Infos: {"rasterFunctionInfos": [{
"name": "None",
"description": "",
"help": ""
}]}
Mensuration Capabilities: Basic
Has Histograms: true
Has Colormap: false
Has Multi Dimensions : false
Rendering Rule:
Min Scale: 0
Max Scale: 0
Copyright Text: Made ... under the direction of Captain William Fitzwilliam Owen.Copy. J. NightingaleMap, Data & GIS Library, Brock University.
Service Data Type: esriImageServiceDataTypeGeneric
Min Values: 24
Max Values: 255
Mean Values: 203.4409158646
Standard Deviation Values: 25.649678326786
Object ID Field:
Fields:
None
Default Mosaic Method: Center
Allowed Mosaic Methods:
SortField:
SortValue: null
Mosaic Operator: First
Default Compression Quality: 75
Default Resampling Method: Bilinear
Max Record Count: null
Max Image Height: 4100
Max Image Width: 15000
Max Download Image Count: null
Max Mosaic Image Count: null
Allow Raster Function: true
Allow Copy: true
Allow Analysis: true
Allow Compute TiePoints: false
Supports Statistics: false
Supports Advanced Queries: false
Use StandardizedQueries: true
Raster Type Infos:
Name: Raster Dataset
Description: Supports all ArcGIS Raster Datasets
Help:
Has Raster Attribute Table: false
Edit Fields Info: null
Ownership Based AccessControl For Rasters: null
Child Resources:
Info
Histograms
Statistics
Key Properties
Legend
Raster Function Infos
Supported Operations:
Export Image
Identify
Measure
Compute Histograms
Compute Statistics Histograms
Get Samples
Compute Class Statistics
Query Boundary
Compute Pixel Location
Compute Angles
Validate
Project