View In:
ArcGIS JavaScript
ArcGIS Online Map Viewer
ArcGIS Earth
ArcMap
View Footprint In:
ArcGIS Online Map Viewer
Service Description: Historical map showing place names, streets and hydrological features on both sides of the Niagara River.
Includes inset: "Vertical section of the Great Slope which occations the Falls" a vertical cross section of the Niagara Escarpment from Queenston to Chippewa.
Scale [ca. 45,744]
Relief shown by hachures.
Originally printed in William Darby's "A tour from the city of New-York to Detroit in the Michigan Territory." (New York : Kirk & Mercein and others, 1819)
Map date: 1819?
Digital reproduction of map (6 3/4 x 14 3/4 in.) in the Public Archives of Canada. National Map Collection. Library and Archives Canada.
Georeferenced and modified from NMC Map number 3151 by Map, Data and GIS Library, Brock University.
Name: EarlyNiagara/NiagaraRiver1819NMC3151
Description: Historical map showing place names, streets and hydrological features on both sides of the Niagara River.
Includes inset: "Vertical section of the Great Slope which occations the Falls" a vertical cross section of the Niagara Escarpment from Queenston to Chippewa.
Scale [ca. 45,744]
Relief shown by hachures.
Originally printed in William Darby's "A tour from the city of New-York to Detroit in the Michigan Territory." (New York : Kirk & Mercein and others, 1819)
Map date: 1819?
Digital reproduction of map (6 3/4 x 14 3/4 in.) in the Public Archives of Canada. National Map Collection. Library and Archives Canada.
Georeferenced and modified from NMC Map number 3151 by Map, Data and GIS Library, Brock University.
Single Fused Map Cache: false
Extent:
XMin: 651643.780820726
YMin: 4741271.080329552
XMax: 675919.7409747259
YMax: 4797758.809083552
Spatial Reference: 26917
(26917)
Initial Extent:
XMin: 651643.780820726
YMin: 4741271.080329552
XMax: 675919.7409747259
YMax: 4797758.809083552
Spatial Reference: 26917
(26917)
Full Extent:
XMin: 651643.780820726
YMin: 4741271.080329552
XMax: 675919.7409747259
YMax: 4797758.809083552
Spatial Reference: 26917
(26917)
Pixel Size X: 14.641712999999983
Pixel Size Y: 14.64171299999995
Band Count: 1
Pixel Type: U16
RasterFunction Infos: {"rasterFunctionInfos": [{
"name": "None",
"description": "",
"help": ""
}]}
Mensuration Capabilities: Basic
Has Histograms: true
Has Colormap: false
Has Multi Dimensions : false
Rendering Rule:
Min Scale: 0
Max Scale: 0
Copyright Text: William Darby, 1775-1854.Map, Data & GIS Library, Brock University.
Service Data Type: esriImageServiceDataTypeGeneric
Min Values: 0
Max Values: 238
Mean Values: 159.82973200073
Standard Deviation Values: 44.52535451643
Object ID Field:
Fields:
None
Default Mosaic Method: Center
Allowed Mosaic Methods:
SortField:
SortValue: null
Mosaic Operator: First
Default Compression Quality: 75
Default Resampling Method: Bilinear
Max Record Count: null
Max Image Height: 4100
Max Image Width: 15000
Max Download Image Count: null
Max Mosaic Image Count: null
Allow Raster Function: true
Allow Copy: true
Allow Analysis: true
Allow Compute TiePoints: false
Supports Statistics: false
Supports Advanced Queries: false
Use StandardizedQueries: true
Raster Type Infos:
Name: Raster Dataset
Description: Supports all ArcGIS Raster Datasets
Help:
Has Raster Attribute Table: false
Edit Fields Info: null
Ownership Based AccessControl For Rasters: null
Child Resources:
Info
Histograms
Statistics
Key Properties
Legend
Raster Function Infos
Supported Operations:
Export Image
Identify
Measure
Compute Histograms
Compute Statistics Histograms
Get Samples
Compute Class Statistics
Query Boundary
Compute Pixel Location
Compute Angles
Validate
Project