View In:
ArcGIS JavaScript
ArcGIS Online Map Viewer
ArcGIS Earth
ArcMap
View Footprint In:
ArcGIS Online Map Viewer
Service Description: Historical map of the Niagara River showing transportation and hydrological features, roads on either side of the river, place names, forts, "ancient shore of Lake Ontario", Brock's Monument.
"Estimate by Geo. Catlin in 1827".
Digital reproduction of map (28 x 22 cm.) in the Public Archives of Canada. National Map Collection. Library and Archives Canada.
Georeferenced and modified from NMC Map number 120091 by Map, Data and GIS Library, Brock University.
Name: EarlyNiagara/NiagaraRiver1827NMC120091
Description: Historical map of the Niagara River showing transportation and hydrological features, roads on either side of the river, place names, forts, "ancient shore of Lake Ontario", Brock's Monument.
"Estimate by Geo. Catlin in 1827".
Digital reproduction of map (28 x 22 cm.) in the Public Archives of Canada. National Map Collection. Library and Archives Canada.
Georeferenced and modified from NMC Map number 120091 by Map, Data and GIS Library, Brock University.
Single Fused Map Cache: false
Extent:
XMin: -8831142.751816044
YMin: 5287573.298951881
XMax: -8744043.104128044
YMax: 5357069.327159881
Spatial Reference: 102100
(3857)
Initial Extent:
XMin: -8831142.751816044
YMin: 5287573.298951881
XMax: -8744043.104128044
YMax: 5357069.327159881
Spatial Reference: 102100
(3857)
Full Extent:
XMin: -8831142.751816044
YMin: 5287573.298951881
XMax: -8744043.104128044
YMax: 5357069.327159881
Spatial Reference: 102100
(3857)
Pixel Size X: 19.134368999999896
Pixel Size Y: 19.134368999999904
Band Count: 1
Pixel Type: U16
RasterFunction Infos: {"rasterFunctionInfos": [{
"name": "None",
"description": "",
"help": ""
}]}
Mensuration Capabilities: Basic
Has Histograms: true
Has Colormap: false
Has Multi Dimensions : false
Rendering Rule:
Min Scale: 0
Max Scale: 0
Copyright Text: Map, Data & GIS Library, Brock University.
Service Data Type: esriImageServiceDataTypeGeneric
Min Values: 25
Max Values: 250
Mean Values: 163.45093925982
Standard Deviation Values: 36.75979538791
Object ID Field:
Fields:
None
Default Mosaic Method: Center
Allowed Mosaic Methods:
SortField:
SortValue: null
Mosaic Operator: First
Default Compression Quality: 75
Default Resampling Method: Bilinear
Max Record Count: null
Max Image Height: 4100
Max Image Width: 15000
Max Download Image Count: null
Max Mosaic Image Count: null
Allow Raster Function: true
Allow Copy: true
Allow Analysis: true
Allow Compute TiePoints: false
Supports Statistics: false
Supports Advanced Queries: false
Use StandardizedQueries: true
Raster Type Infos:
Name: Raster Dataset
Description: Supports all ArcGIS Raster Datasets
Help:
Has Raster Attribute Table: false
Edit Fields Info: null
Ownership Based AccessControl For Rasters: null
Child Resources:
Info
Histograms
Statistics
Key Properties
Legend
Raster Function Infos
Supported Operations:
Export Image
Identify
Measure
Compute Histograms
Compute Statistics Histograms
Get Samples
Compute Class Statistics
Query Boundary
Compute Pixel Location
Compute Angles
Validate
Project